FILENAME: O4510821.NWS.1007392.tif
QUADRANGLE_NAME: SODA SPRINGS NW
QUADRANT: NW
WEST_LONGITUDE: -108 30 0.00000
EAST_LONGITUDE: -108 26 15.00000
NORTH_LATITUDE: 45 45 0.00000
SOUTH_LATITUDE: 45 41 15.00000
PRODUCTION_DATE: 1999 4 6
RASTER_ORDER: LEFT_RIGHT/TOP_BOTTOM
BAND_ORGANIZATION: SINGLE FILE
BAND_CONTENT: BLACK&WHITE
BAND_CONTENT: UNDEFINED
BAND_CONTENT: UNDEFINED
BITS_PER_PIXEL: 8
SAMPLES_AND_LINES: 5740 7707
HORIZONTAL_DATUM: NAD83
HORIZONTAL_COORDINATE_SYSTEM: UTM
COORDINATE_ZONE: 12
HORIZONTAL_UNITS: METERS
HORIZONTAL_RESOLUTION: 1.00000
SECONDARY_HORIZONTAL_DATUM: NAD27
XY_ORIGIN: 694094.00000 5069765.00000
SECONDARY_XY_ORIGIN: 694153.35600 5069554.32700
NATION: US
NATION: "SCIENCE
STATE: MT
NW_QUAD_CORNER_XY: 694449.22200 5069311.05800
NE_QUAD_CORNER_XY: 699310.37200 5069464.99100
SE_QUAD_CORNERY_XY: 699532.85000 5062521.32200
SW_QUAD_CORNER_XY: 694666.26700 5062367.38100
SECONDARY_NW_QUAD_XY: 694455.05700 5069093.35300
SECONDARY_NE_QUAD_XY: 699316.35300 5069247.29000
SECONDARY_SE_QUAD_XY: 699538.82900 5062303.66700
SECONDARY_SW_QUAD_XY: 694672.10100 5062149.72200
RMSE_XY: 1.90000
IMAGE_SOURCE: BLACK AND WHITE FILM
SOURCE_IMAGE_ID: NAPP 9137 234
SOURCE_IMAGE_DATE: 1996 08 23
SOURCE_IMAGE_ID: NAPP 9138 029
SOURCE_IMAGE_DATE: 1996 08 23
SOURCE_IMAGE_ID: NAPP 9138 030
SOURCE_IMAGE_DATE: 1996 08 23
SOURCE_IMAGE_ID: NAPP 9137 233
SOURCE_IMAGE_DATE: 1996 08 23
SOURCE_DEM_DATE: 1998 00 00
AGENCY: WESTERN MAPPING CENTER (WMC)
PRODUCER: UNDEFINED
PRODUCTION_SYSTEM: GIS/MAGIC
COMPRESSION: UNDEFINED
STANDARD_VERSION: 1996 12
METADATA_DATE: 1999 04 28
DATA_FILE_SIZE: 44243920
BYTE_COUNT: 5740
