FILENAME: O4510820.NWS.1007344.tif
QUADRANGLE_NAME: YEGEN
QUADRANT: NW
WEST_LONGITUDE: -108 37 30.00000
EAST_LONGITUDE: -108 33 45.00000
NORTH_LATITUDE: 45 45 0.00000
SOUTH_LATITUDE: 45 41 15.00000
PRODUCTION_DATE: 1999 4 6
RASTER_ORDER: LEFT_RIGHT/TOP_BOTTOM
BAND_ORGANIZATION: SINGLE FILE
BAND_CONTENT: BLACK&WHITE
BAND_CONTENT: UNDEFINED
BAND_CONTENT: UNDEFINED
BITS_PER_PIXEL: 8
SAMPLES_AND_LINES: 5729 7700
HORIZONTAL_DATUM: NAD83
HORIZONTAL_COORDINATE_SYSTEM: UTM
COORDINATE_ZONE: 12
HORIZONTAL_UNITS: METERS
HORIZONTAL_RESOLUTION: 1.00000
SECONDARY_HORIZONTAL_DATUM: NAD27
XY_ORIGIN: 684372.00000 5069461.00000
SECONDARY_XY_ORIGIN: 684431.44900 5069250.36100
NATION: US
NATION: "SCIENCE
STATE: MT
NW_QUAD_CORNER_XY: 684726.90500 5069014.60800
NE_QUAD_CORNER_XY: 689588.06600 5069160.93100
SE_QUAD_CORNERY_XY: 689799.67900 5062217.24600
SW_QUAD_CORNER_XY: 684933.08500 5062070.91600
SECONDARY_NW_QUAD_XY: 684732.44800 5068796.89400
SECONDARY_NE_QUAD_XY: 689593.75600 5068943.22100
SECONDARY_SE_QUAD_XY: 689805.36600 5061999.58200
SECONDARY_SW_QUAD_XY: 684938.62700 5061853.24700
RMSE_XY: 2.80000
IMAGE_SOURCE: BLACK AND WHITE FILM
SOURCE_IMAGE_ID: NAPP 9138 242
SOURCE_IMAGE_DATE: 1996 08 23
SOURCE_IMAGE_ID: NAPP 9138 288
SOURCE_IMAGE_DATE: 1996 08 23
SOURCE_IMAGE_ID: NAPP 9138 028
SOURCE_IMAGE_DATE: 1996 08 23
SOURCE_DEM_DATE: 1997 01 01
AGENCY: WESTERN MAPPING CENTER (WMC)
PRODUCER: UNDEFINED
PRODUCTION_SYSTEM: GIS/MAGIC
COMPRESSION: UNDEFINED
STANDARD_VERSION: 1996 12
METADATA_DATE: 1999 04 28
DATA_FILE_SIZE: 44119029
BYTE_COUNT: 5729
