FILENAME: O4510820.SES.1007345.tif
QUADRANGLE_NAME: YEGEN
QUADRANT: SE
WEST_LONGITUDE: -108 33 45.00000
EAST_LONGITUDE: -108 30 0.00000
NORTH_LATITUDE: 45 41 15.00000
SOUTH_LATITUDE: 45 37 30.00000
PRODUCTION_DATE: 1999 4 6
RASTER_ORDER: LEFT_RIGHT/TOP_BOTTOM
BAND_ORGANIZATION: SINGLE FILE
BAND_CONTENT: BLACK&WHITE
BAND_CONTENT: UNDEFINED
BAND_CONTENT: UNDEFINED
BITS_PER_PIXEL: 8
SAMPLES_AND_LINES: 5741 7704
HORIZONTAL_DATUM: NAD83
HORIZONTAL_COORDINATE_SYSTEM: UTM
COORDINATE_ZONE: 12
HORIZONTAL_UNITS: METERS
HORIZONTAL_RESOLUTION: 1.00000
SECONDARY_HORIZONTAL_DATUM: NAD27
XY_ORIGIN: 689444.00000 5062668.00000
SECONDARY_XY_ORIGIN: 689503.38400 5062457.36400
NATION: US
NATION: "SCIENCE
STATE: MT
NW_QUAD_CORNER_XY: 689799.67900 5062217.24600
NE_QUAD_CORNER_XY: 694666.26700 5062367.38100
SE_QUAD_CORNERY_XY: 694883.07900 5055423.76600
SW_QUAD_CORNER_XY: 690011.06400 5055273.62300
SECONDARY_NW_QUAD_XY: 689805.36600 5061999.58200
SECONDARY_NE_QUAD_XY: 694672.10100 5062149.72200
SECONDARY_SE_QUAD_XY: 694888.91100 5055206.15300
SECONDARY_SW_QUAD_XY: 690016.75000 5055056.00600
RMSE_XY: 2.50000
IMAGE_SOURCE: BLACK AND WHITE FILM
SOURCE_IMAGE_ID: NAPP 9138 027
SOURCE_IMAGE_DATE: 1996 08 23
SOURCE_IMAGE_ID: NAPP 9138 028
SOURCE_IMAGE_DATE: 1996 08 23
SOURCE_DEM_DATE: 1997 01 01
AGENCY: WESTERN MAPPING CENTER (WMC)
PRODUCER: UNDEFINED
PRODUCTION_SYSTEM: GIS/MAGIC
COMPRESSION: UNDEFINED
STANDARD_VERSION: 1996 12
METADATA_DATE: 1999 04 28
DATA_FILE_SIZE: 44234405
BYTE_COUNT: 5741
