FILENAME: O4510819.NES.1007320.tif
QUADRANGLE_NAME: MOSSMAIN
QUADRANT: NE
WEST_LONGITUDE: -108 41 15.00000
EAST_LONGITUDE: -108 37 30.00000
NORTH_LATITUDE: 45 45 0.00000
SOUTH_LATITUDE: 45 41 15.00000
PRODUCTION_DATE: 1999 4 6
RASTER_ORDER: LEFT_RIGHT/TOP_BOTTOM
BAND_ORGANIZATION: SINGLE FILE
BAND_CONTENT: BLACK&WHITE
BAND_CONTENT: UNDEFINED
BAND_CONTENT: UNDEFINED
BITS_PER_PIXEL: 8
SAMPLES_AND_LINES: 5725 7696
HORIZONTAL_DATUM: NAD83
HORIZONTAL_COORDINATE_SYSTEM: UTM
COORDINATE_ZONE: 12
HORIZONTAL_UNITS: METERS
HORIZONTAL_RESOLUTION: 1.00000
SECONDARY_HORIZONTAL_DATUM: NAD27
XY_ORIGIN: 679510.00000 5069315.00000
SECONDARY_XY_ORIGIN: 679569.49500 5069104.37700
NATION: US
NATION: "SCIENCE
STATE: MT
NW_QUAD_CORNER_XY: 679865.73800 5068872.09000
NE_QUAD_CORNER_XY: 684726.90500 5069014.60800
SE_QUAD_CORNERY_XY: 684933.08500 5062070.91600
SW_QUAD_CORNER_XY: 680066.48600 5061928.39000
SECONDARY_NW_QUAD_XY: 679871.13500 5068654.37200
SECONDARY_NE_QUAD_XY: 684732.44800 5068796.89400
SECONDARY_SE_QUAD_XY: 684938.62700 5061853.24700
SECONDARY_SW_QUAD_XY: 680071.88200 5061710.71700
RMSE_XY: 2.00000
IMAGE_SOURCE: BLACK AND WHITE FILM
SOURCE_IMAGE_ID: NAPP 9138 289
SOURCE_IMAGE_DATE: 1996 08 23
SOURCE_IMAGE_ID: NAPP 9140 097
SOURCE_IMAGE_DATE: 1996 08 23
SOURCE_IMAGE_ID: NAPP 9138 288
SOURCE_IMAGE_DATE: 1996 08 23
SOURCE_IMAGE_ID: NAPP 9138 290
SOURCE_IMAGE_DATE: 1996 08 23
SOURCE_IMAGE_ID: NAPP 9138 291
SOURCE_IMAGE_DATE: 1996 08 23
SOURCE_DEM_DATE: 1981 08 00
AGENCY: WESTERN MAPPING CENTER (WMC)
PRODUCER: UNDEFINED
PRODUCTION_SYSTEM: GIS/MAGIC
COMPRESSION: UNDEFINED
STANDARD_VERSION: 1996 12
METADATA_DATE: 1999 04 28
DATA_FILE_SIZE: 44065325
BYTE_COUNT: 5725
