FILENAME: O4510818.NWS.1007251.tif
QUADRANGLE_NAME: LAUREL
QUADRANT: NW
WEST_LONGITUDE: -108 52 30.00000
EAST_LONGITUDE: -108 48 45.00000
NORTH_LATITUDE: 45 45 0.00000
SOUTH_LATITUDE: 45 41 15.00000
PRODUCTION_DATE: 1999 3 31
RASTER_ORDER: LEFT_RIGHT/TOP_BOTTOM
BAND_ORGANIZATION: SINGLE FILE
BAND_CONTENT: BLACK&WHITE
BAND_CONTENT: UNDEFINED
BAND_CONTENT: UNDEFINED
BITS_PER_PIXEL: 8
SAMPLES_AND_LINES: 5709 7685
HORIZONTAL_DATUM: NAD83
HORIZONTAL_COORDINATE_SYSTEM: UTM
COORDINATE_ZONE: 12
HORIZONTAL_UNITS: METERS
HORIZONTAL_RESOLUTION: 1.00000
SECONDARY_HORIZONTAL_DATUM: NAD27
XY_ORIGIN: 664926.00000 5068899.00000
SECONDARY_XY_ORIGIN: 664985.62700 5068688.62200
NATION: US
NATION: "SCIENCE
STATE: MT
NW_QUAD_CORNER_XY: 665282.20400 5068467.36200
NE_QUAD_CORNER_XY: 670143.38700 5068598.46800
SE_QUAD_CORNERY_XY: 670333.27400 5061654.75300
SW_QUAD_CORNER_XY: 665466.66000 5061523.64100
SECONDARY_NW_QUAD_XY: 665287.16400 5068249.63200
SECONDARY_NE_QUAD_XY: 670148.49300 5068380.74100
SECONDARY_SE_QUAD_XY: 670338.37800 5061437.07200
SECONDARY_SW_QUAD_XY: 665471.61900 5061305.95600
RMSE_XY: 2.00000
IMAGE_SOURCE: BLACK AND WHITE FILM
SOURCE_IMAGE_ID: NAPP 9147 012
SOURCE_IMAGE_DATE: 1996 08 24
SOURCE_IMAGE_ID: NAPP 9147 058
SOURCE_IMAGE_DATE: 1996 08 24
SOURCE_IMAGE_ID: NAPP 9147 014
SOURCE_IMAGE_DATE: 1996 08 24
SOURCE_IMAGE_ID: NAPP 9147 011
SOURCE_IMAGE_DATE: 1996 08 24
SOURCE_IMAGE_ID: NAPP 9141 030
SOURCE_IMAGE_DATE: 1996 08 23
SOURCE_DEM_DATE: 1975 07 00
AGENCY: WESTERN MAPPING CENTER (WMC)
PRODUCER: UNDEFINED
PRODUCTION_SYSTEM: GIS/MAGIC
COMPRESSION: UNDEFINED
STANDARD_VERSION: 1996 12
METADATA_DATE: 1999 04 28
DATA_FILE_SIZE: 43879374
BYTE_COUNT: 5709
