FILENAME: O4510818.SES.1007252.tif
QUADRANGLE_NAME: LAUREL
QUADRANT: SE
WEST_LONGITUDE: -108 48 45.00000
EAST_LONGITUDE: -108 45 0.00000
NORTH_LATITUDE: 45 41 15.00000
SOUTH_LATITUDE: 45 37 30.00000
PRODUCTION_DATE: 1999 3 31
RASTER_ORDER: LEFT_RIGHT/TOP_BOTTOM
BAND_ORGANIZATION: SINGLE FILE
BAND_CONTENT: BLACK&WHITE
BAND_CONTENT: UNDEFINED
BAND_CONTENT: UNDEFINED
BITS_PER_PIXEL: 8
SAMPLES_AND_LINES: 5719 7689
HORIZONTAL_DATUM: NAD83
HORIZONTAL_COORDINATE_SYSTEM: UTM
COORDINATE_ZONE: 12
HORIZONTAL_UNITS: METERS
HORIZONTAL_RESOLUTION: 1.00000
SECONDARY_HORIZONTAL_DATUM: NAD27
XY_ORIGIN: 669977.00000 5062090.00000
SECONDARY_XY_ORIGIN: 670036.56700 5061879.54200
NATION: US
NATION: "SCIENCE
STATE: MT
NW_QUAD_CORNER_XY: 670333.27400 5061654.75300
NE_QUAD_CORNER_XY: 675199.88200 5061789.67000
SE_QUAD_CORNERY_XY: 675394.99000 5054846.02700
SW_QUAD_CORNER_XY: 670522.95700 5054711.10400
SECONDARY_NW_QUAD_XY: 670338.37800 5061437.07200
SECONDARY_NE_QUAD_XY: 675205.13200 5061571.99300
SECONDARY_SE_QUAD_XY: 675400.23900 5054628.39600
SECONDARY_SW_QUAD_XY: 670528.06000 5054493.46900
RMSE_XY: 1.90000
IMAGE_SOURCE: BLACK AND WHITE FILM
SOURCE_IMAGE_ID: NAPP 9141 028
SOURCE_IMAGE_DATE: 1996 08 23
SOURCE_DEM_DATE: 1975 07 00
AGENCY: WESTERN MAPPING CENTER (WMC)
PRODUCER: UNDEFINED
PRODUCTION_SYSTEM: GIS/MAGIC
COMPRESSION: UNDEFINED
STANDARD_VERSION: 1996 12
METADATA_DATE: 1999 04 28
DATA_FILE_SIZE: 43979110
BYTE_COUNT: 5719
