FILENAME: O4510817.NWS.1007215.tif
QUADRANGLE_NAME: PARK CITY
QUADRANT: NW
WEST_LONGITUDE: -109 0 0.00000
EAST_LONGITUDE: -108 56 15.00000
NORTH_LATITUDE: 45 45 0.00000
SOUTH_LATITUDE: 45 41 15.00000
PRODUCTION_DATE: 1999 3 31
RASTER_ORDER: LEFT_RIGHT/TOP_BOTTOM
BAND_ORGANIZATION: SINGLE FILE
BAND_CONTENT: BLACK&WHITE
BAND_CONTENT: UNDEFINED
BAND_CONTENT: UNDEFINED
BITS_PER_PIXEL: 8
SAMPLES_AND_LINES: 5699 7678
HORIZONTAL_DATUM: NAD83
HORIZONTAL_COORDINATE_SYSTEM: UTM
COORDINATE_ZONE: 12
HORIZONTAL_UNITS: METERS
HORIZONTAL_RESOLUTION: 1.00000
SECONDARY_HORIZONTAL_DATUM: NAD27
XY_ORIGIN: 655203.00000 5068641.00000
SECONDARY_XY_ORIGIN: 655262.71400 5068430.85100
NATION: US
NATION: "SCIENCE
STATE: MT
NW_QUAD_CORNER_XY: 655559.82300 5068216.56200
NE_QUAD_CORNER_XY: 660421.01600 5068340.06000
SE_QUAD_CORNERY_XY: 660600.04300 5061396.33200
SW_QUAD_CORNER_XY: 655733.42000 5061272.82700
SECONDARY_NW_QUAD_XY: 655564.49100 5067998.82300
SECONDARY_NE_QUAD_XY: 660425.83000 5068122.32600
SECONDARY_SE_QUAD_XY: 660604.85500 5061178.64300
SECONDARY_SW_QUAD_XY: 655738.08700 5061055.13500
RMSE_XY: 1.80000
IMAGE_SOURCE: BLACK AND WHITE FILM
SOURCE_IMAGE_ID: NAPP 9147 272
SOURCE_IMAGE_DATE: 1996 08 24
SOURCE_IMAGE_ID: NAPP 9147 059
SOURCE_IMAGE_DATE: 1996 08 24
SOURCE_DEM_DATE: 1975 07 00
AGENCY: WESTERN MAPPING CENTER (WMC)
PRODUCER: UNDEFINED
PRODUCTION_SYSTEM: GIS/MAGIC
COMPRESSION: UNDEFINED
STANDARD_VERSION: 1996 12
METADATA_DATE: 1999 04 28
DATA_FILE_SIZE: 43762621
BYTE_COUNT: 5699
