FILENAME: O4510815.SES.1006972.tif
QUADRANGLE_NAME: INDIAN ARROW
QUADRANT: SE
WEST_LONGITUDE: -108 11 15.00000
EAST_LONGITUDE: -108 7 30.00000
NORTH_LATITUDE: 45 48 45.00000
SOUTH_LATITUDE: 45 45 0.00000
PRODUCTION_DATE: 1999 4 15
RASTER_ORDER: LEFT_RIGHT/TOP_BOTTOM
BAND_ORGANIZATION: SINGLE FILE
BAND_CONTENT: BLACK&WHITE
BAND_CONTENT: UNDEFINED
BAND_CONTENT: UNDEFINED
BITS_PER_PIXEL: 8
SAMPLES_AND_LINES: 5762 7727
HORIZONTAL_DATUM: NAD83
HORIZONTAL_COORDINATE_SYSTEM: UTM
COORDINATE_ZONE: 12
HORIZONTAL_UNITS: METERS
HORIZONTAL_RESOLUTION: 1.00000
SECONDARY_HORIZONTAL_DATUM: NAD27
XY_ORIGIN: 718156.00000 5077536.00000
SECONDARY_XY_ORIGIN: 718215.28700 5077324.92700
NATION: US
NATION: "SCIENCE
STATE: MT
NW_QUAD_CORNER_XY: 718510.43300 5077062.47600
NE_QUAD_CORNER_XY: 723366.10900 5077235.43100
SE_QUAD_CORNERY_XY: 723616.02700 5070291.75000
SW_QUAD_CORNER_XY: 718754.91000 5070118.78400
SECONDARY_NW_QUAD_XY: 718516.99900 5076844.75000
SECONDARY_NE_QUAD_XY: 723372.82100 5077017.71100
SECONDARY_SE_QUAD_XY: 723622.73800 5070074.07400
SECONDARY_SW_QUAD_XY: 718761.47400 5069901.10300
RMSE_XY: 2.40000
IMAGE_SOURCE: BLACK AND WHITE FILM
SOURCE_IMAGE_ID: NAPP 9142 257
SOURCE_IMAGE_DATE: 1996 08 24
SOURCE_IMAGE_ID: NAPP 9146 052
SOURCE_IMAGE_DATE: 1996 08 24
SOURCE_IMAGE_ID: NAPP 9146 051
SOURCE_IMAGE_DATE: 1996 08 24
SOURCE_IMAGE_ID: NAPP 9143 030
SOURCE_IMAGE_DATE: 1996 08 24
SOURCE_IMAGE_ID: NAPP 9143 032
SOURCE_IMAGE_DATE: 1996 08 24
SOURCE_DEM_DATE: 1997 01 01
AGENCY: WESTERN MAPPING CENTER (WMC)
PRODUCER: UNDEFINED
PRODUCTION_SYSTEM: GIS/MAGIC
COMPRESSION: UNDEFINED
STANDARD_VERSION: 1996 12
METADATA_DATE: 1999 04 28
DATA_FILE_SIZE: 44528736
BYTE_COUNT: 5762
