FILENAME: O4510814.NWS.1006934.tif
QUADRANGLE_NAME: COTTONWOOD CREEK
QUADRANT: NW
WEST_LONGITUDE: -108 22 30.00000
EAST_LONGITUDE: -108 18 45.00000
NORTH_LATITUDE: 45 52 30.00000
SOUTH_LATITUDE: 45 48 45.00000
PRODUCTION_DATE: 1999 4 16
RASTER_ORDER: LEFT_RIGHT/TOP_BOTTOM
BAND_ORGANIZATION: SINGLE FILE
BAND_CONTENT: BLACK&WHITE
BAND_CONTENT: UNDEFINED
BAND_CONTENT: UNDEFINED
BITS_PER_PIXEL: 8
SAMPLES_AND_LINES: 5741 7715
HORIZONTAL_DATUM: NAD83
HORIZONTAL_COORDINATE_SYSTEM: UTM
COORDINATE_ZONE: 12
HORIZONTAL_UNITS: METERS
HORIZONTAL_RESOLUTION: 1.00000
SECONDARY_HORIZONTAL_DATUM: NAD27
XY_ORIGIN: 703360.00000 5083972.00000
SECONDARY_XY_ORIGIN: 703419.24700 5083760.94200
NATION: US
NATION: "SCIENCE
STATE: MT
NW_QUAD_CORNER_XY: 703714.96100 5083510.23100
NE_QUAD_CORNER_XY: 708565.21300 5083671.75700
SE_QUAD_CORNERY_XY: 708799.05800 5076727.98600
SW_QUAD_CORNER_XY: 703943.36000 5076566.45000
SECONDARY_NW_QUAD_XY: 703721.09100 5083292.44700
SECONDARY_NE_QUAD_XY: 708571.48900 5083453.97700
SECONDARY_SE_QUAD_XY: 708805.33300 5076510.25000
SECONDARY_SW_QUAD_XY: 703949.48900 5076348.71000
RMSE_XY: 2.00000
IMAGE_SOURCE: BLACK AND WHITE FILM
SOURCE_IMAGE_ID: NAPP 9137 084
SOURCE_IMAGE_DATE: 1996 08 23
SOURCE_IMAGE_ID: NAPP 9137 140
SOURCE_IMAGE_DATE: 1996 08 23
SOURCE_IMAGE_ID: NAPP 9137 085
SOURCE_IMAGE_DATE: 1996 08 23
SOURCE_IMAGE_ID: NAPP 9134 030
SOURCE_IMAGE_DATE: 1996 08 10
SOURCE_DEM_DATE: 1997 01 01
AGENCY: WESTERN MAPPING CENTER (WMC)
PRODUCER: UNDEFINED
PRODUCTION_SYSTEM: GIS/MAGIC
COMPRESSION: UNDEFINED
STANDARD_VERSION: 1996 12
METADATA_DATE: 1999 04 28
DATA_FILE_SIZE: 44297556
BYTE_COUNT: 5741
