FILENAME: O4510814.SES.1006935.tif
QUADRANGLE_NAME: COTTONWOOD CREEK
QUADRANT: SE
WEST_LONGITUDE: -108 18 45.00000
EAST_LONGITUDE: -108 15 0.00000
NORTH_LATITUDE: 45 48 45.00000
SOUTH_LATITUDE: 45 45 0.00000
PRODUCTION_DATE: 1999 4 14
RASTER_ORDER: LEFT_RIGHT/TOP_BOTTOM
BAND_ORGANIZATION: SINGLE FILE
BAND_CONTENT: BLACK&WHITE
BAND_CONTENT: UNDEFINED
BAND_CONTENT: UNDEFINED
BITS_PER_PIXEL: 8
SAMPLES_AND_LINES: 5751 7719
HORIZONTAL_DATUM: NAD83
HORIZONTAL_COORDINATE_SYSTEM: UTM
COORDINATE_ZONE: 12
HORIZONTAL_UNITS: METERS
HORIZONTAL_RESOLUTION: 1.00000
SECONDARY_HORIZONTAL_DATUM: NAD27
XY_ORIGIN: 708444.00000 5077194.00000
SECONDARY_XY_ORIGIN: 708503.35200 5076983.09300
NATION: US
NATION: "SCIENCE
STATE: MT
NW_QUAD_CORNER_XY: 708799.05800 5076727.98600
NE_QUAD_CORNER_XY: 713654.74900 5076893.32800
SE_QUAD_CORNERY_XY: 713893.78500 5069949.62600
SW_QUAD_CORNER_XY: 709032.65400 5069784.27500
SECONDARY_NW_QUAD_XY: 708805.33300 5076510.25000
SECONDARY_NE_QUAD_XY: 713661.16900 5076675.59700
SECONDARY_SE_QUAD_XY: 713900.20400 5069731.94000
SECONDARY_SW_QUAD_XY: 709038.92700 5069566.58400
RMSE_XY: 3.20000
IMAGE_SOURCE: BLACK AND WHITE FILM
SOURCE_IMAGE_ID: NAPP 9134 028
SOURCE_IMAGE_DATE: 1996 08 10
SOURCE_IMAGE_ID: NAPP 9134 029
SOURCE_IMAGE_DATE: 1996 08 10
SOURCE_IMAGE_ID: NAPP 9146 052
SOURCE_IMAGE_DATE: 1996 08 24
SOURCE_DEM_DATE: 1997 01 01
AGENCY: WESTERN MAPPING CENTER (WMC)
PRODUCER: UNDEFINED
PRODUCTION_SYSTEM: GIS/MAGIC
COMPRESSION: UNDEFINED
STANDARD_VERSION: 1996 12
METADATA_DATE: 1999 04 28
DATA_FILE_SIZE: 44397720
BYTE_COUNT: 5751
