FILENAME: O4510813.SES.1007389.tif
QUADRANGLE_NAME: BILLINGS EAST
QUADRANT: SE
WEST_LONGITUDE: -108 26 15.00000
EAST_LONGITUDE: -108 22 30.00000
NORTH_LATITUDE: 45 48 45.00000
SOUTH_LATITUDE: 45 45 0.00000
PRODUCTION_DATE: 1999 4 14
RASTER_ORDER: LEFT_RIGHT/TOP_BOTTOM
BAND_ORGANIZATION: SINGLE FILE
BAND_CONTENT: BLACK&WHITE
BAND_CONTENT: UNDEFINED
BAND_CONTENT: UNDEFINED
BITS_PER_PIXEL: 8
SAMPLES_AND_LINES: 5740 7712
HORIZONTAL_DATUM: NAD83
HORIZONTAL_COORDINATE_SYSTEM: UTM
COORDINATE_ZONE: 12
HORIZONTAL_UNITS: METERS
HORIZONTAL_RESOLUTION: 1.00000
SECONDARY_HORIZONTAL_DATUM: NAD27
XY_ORIGIN: 698733.00000 5076867.00000
SECONDARY_XY_ORIGIN: 698792.32300 5076656.14400
NATION: US
NATION: "SCIENCE
STATE: MT
NW_QUAD_CORNER_XY: 699087.65600 5076408.72100
NE_QUAD_CORNER_XY: 703943.36000 5076566.45000
SE_QUAD_CORNERY_XY: 704171.51600 5069622.73000
SW_QUAD_CORNER_XY: 699310.37200 5069464.99100
SECONDARY_NW_QUAD_XY: 699093.63800 5076190.97500
SECONDARY_NE_QUAD_XY: 703949.48900 5076348.71000
SECONDARY_SE_QUAD_XY: 704177.64300 5069405.03400
SECONDARY_SW_QUAD_XY: 699316.35300 5069247.29000
RMSE_XY: 1.80000
IMAGE_SOURCE: BLACK AND WHITE FILM
SOURCE_IMAGE_ID: NAPP 9137 137
SOURCE_IMAGE_DATE: 1996 08 23
SOURCE_IMAGE_ID: NAPP 9137 233
SOURCE_IMAGE_DATE: 1996 08 23
SOURCE_IMAGE_ID: NAPP 9137 087
SOURCE_IMAGE_DATE: 1996 08 23
SOURCE_IMAGE_ID: NAPP 9137 086
SOURCE_IMAGE_DATE: 1996 08 23
SOURCE_IMAGE_ID: NAPP 9137 085
SOURCE_IMAGE_DATE: 1996 08 23
SOURCE_DEM_DATE: 1998 00 00
AGENCY: WESTERN MAPPING CENTER (WMC)
PRODUCER: UNDEFINED
PRODUCTION_SYSTEM: GIS/MAGIC
COMPRESSION: UNDEFINED
STANDARD_VERSION: 1996 12
METADATA_DATE: 1999 04 28
DATA_FILE_SIZE: 44272620
BYTE_COUNT: 5740
