FILENAME: O4510812.NES.1007339.tif
QUADRANGLE_NAME: BILLINGS WEST
QUADRANT: NE
WEST_LONGITUDE: -108 33 45.00000
EAST_LONGITUDE: -108 30 0.00000
NORTH_LATITUDE: 45 52 30.00000
SOUTH_LATITUDE: 45 48 45.00000
PRODUCTION_DATE: 1999 4 12
RASTER_ORDER: LEFT_RIGHT/TOP_BOTTOM
BAND_ORGANIZATION: SINGLE FILE
BAND_CONTENT: BLACK&WHITE
BAND_CONTENT: UNDEFINED
BAND_CONTENT: UNDEFINED
BITS_PER_PIXEL: 8
SAMPLES_AND_LINES: 5724 7704
HORIZONTAL_DATUM: NAD83
HORIZONTAL_COORDINATE_SYSTEM: UTM
COORDINATE_ZONE: 12
HORIZONTAL_UNITS: METERS
HORIZONTAL_RESOLUTION: 1.00000
SECONDARY_HORIZONTAL_DATUM: NAD27
XY_ORIGIN: 688809.00000 5083499.00000
SECONDARY_XY_ORIGIN: 688868.33000 5083288.05600
NATION: US
NATION: "SCIENCE
STATE: MT
NW_QUAD_CORNER_XY: 689164.16200 5083048.48800
NE_QUAD_CORNER_XY: 694014.43500 5083198.59700
SE_QUAD_CORNERY_XY: 694231.94500 5076254.79700
SW_QUAD_CORNER_XY: 689376.22700 5076104.67800
SECONDARY_NW_QUAD_XY: 689169.85400 5082830.68900
SECONDARY_NE_QUAD_XY: 694020.27300 5082980.80300
SECONDARY_SE_QUAD_XY: 694237.78100 5076037.04700
SECONDARY_SW_QUAD_XY: 689381.91800 5075886.92300
RMSE_XY: 2.30000
IMAGE_SOURCE: BLACK AND WHITE FILM
SOURCE_IMAGE_ID: NAPP 9138 033
SOURCE_IMAGE_DATE: 1996 08 23
SOURCE_IMAGE_ID: NAPP 9138 035
SOURCE_IMAGE_DATE: 1996 08 23
SOURCE_DEM_DATE: 1997 01 01
AGENCY: WESTERN MAPPING CENTER (WMC)
PRODUCER: UNDEFINED
PRODUCTION_SYSTEM: GIS/MAGIC
COMPRESSION: UNDEFINED
STANDARD_VERSION: 1996 12
METADATA_DATE: 1999 04 28
DATA_FILE_SIZE: 44103420
BYTE_COUNT: 5724
