FILENAME: O4510812.NWS.1007340.tif
QUADRANGLE_NAME: BILLINGS WEST
QUADRANT: NW
WEST_LONGITUDE: -108 37 30.00000
EAST_LONGITUDE: -108 33 45.00000
NORTH_LATITUDE: 45 52 30.00000
SOUTH_LATITUDE: 45 48 45.00000
PRODUCTION_DATE: 1999 4 12
RASTER_ORDER: LEFT_RIGHT/TOP_BOTTOM
BAND_ORGANIZATION: SINGLE FILE
BAND_CONTENT: BLACK&WHITE
BAND_CONTENT: UNDEFINED
BAND_CONTENT: UNDEFINED
BITS_PER_PIXEL: 8
SAMPLES_AND_LINES: 5719 7700
HORIZONTAL_DATUM: NAD83
HORIZONTAL_COORDINATE_SYSTEM: UTM
COORDINATE_ZONE: 12
HORIZONTAL_UNITS: METERS
HORIZONTAL_RESOLUTION: 1.00000
SECONDARY_HORIZONTAL_DATUM: NAD27
XY_ORIGIN: 683959.00000 5083349.00000
SECONDARY_XY_ORIGIN: 684018.36900 5083138.07500
NATION: US
NATION: "SCIENCE
STATE: MT
NW_QUAD_CORNER_XY: 684313.88200 5082902.18300
NE_QUAD_CORNER_XY: 689164.16200 5083048.48800
SE_QUAD_CORNERY_XY: 689376.22700 5076104.67800
SW_QUAD_CORNER_XY: 684520.50400 5075958.36400
SECONDARY_NW_QUAD_XY: 684319.42700 5082684.38000
SECONDARY_NE_QUAD_XY: 689169.85400 5082830.68900
SECONDARY_SE_QUAD_XY: 689381.91800 5075886.92300
SECONDARY_SW_QUAD_XY: 684526.04800 5075740.60500
RMSE_XY: 2.40000
IMAGE_SOURCE: BLACK AND WHITE FILM
SOURCE_IMAGE_ID: NAPP 9138 238
SOURCE_IMAGE_DATE: 1996 08 23
SOURCE_IMAGE_ID: NAPP 9138 293
SOURCE_IMAGE_DATE: 1996 08 23
SOURCE_IMAGE_ID: NAPP 9138 033
SOURCE_IMAGE_DATE: 1996 08 23
SOURCE_DEM_DATE: 1997 01 01
AGENCY: WESTERN MAPPING CENTER (WMC)
PRODUCER: UNDEFINED
PRODUCTION_SYSTEM: GIS/MAGIC
COMPRESSION: UNDEFINED
STANDARD_VERSION: 1996 12
METADATA_DATE: 1999 04 28
DATA_FILE_SIZE: 44042019
BYTE_COUNT: 5719
