FILENAME: O4510812.SES.1007341.tif
QUADRANGLE_NAME: BILLINGS WEST
QUADRANT: SE
WEST_LONGITUDE: -108 33 45.00000
EAST_LONGITUDE: -108 30 0.00000
NORTH_LATITUDE: 45 48 45.00000
SOUTH_LATITUDE: 45 45 0.00000
PRODUCTION_DATE: 1999 4 12
RASTER_ORDER: LEFT_RIGHT/TOP_BOTTOM
BAND_ORGANIZATION: SINGLE FILE
BAND_CONTENT: BLACK&WHITE
BAND_CONTENT: UNDEFINED
BAND_CONTENT: UNDEFINED
BITS_PER_PIXEL: 8
SAMPLES_AND_LINES: 5730 7704
HORIZONTAL_DATUM: NAD83
HORIZONTAL_COORDINATE_SYSTEM: UTM
COORDINATE_ZONE: 12
HORIZONTAL_UNITS: METERS
HORIZONTAL_RESOLUTION: 1.00000
SECONDARY_HORIZONTAL_DATUM: NAD27
XY_ORIGIN: 689021.00000 5076555.00000
SECONDARY_XY_ORIGIN: 689080.36500 5076344.19400
NATION: US
NATION: "SCIENCE
STATE: MT
NW_QUAD_CORNER_XY: 689376.22700 5076104.67800
NE_QUAD_CORNER_XY: 694231.94500 5076254.79700
SE_QUAD_CORNERY_XY: 694449.22200 5069311.05800
SW_QUAD_CORNER_XY: 689588.06600 5069160.93100
SECONDARY_NW_QUAD_XY: 689381.91800 5075886.92300
SECONDARY_NE_QUAD_XY: 694237.78100 5076037.04700
SECONDARY_SE_QUAD_XY: 694455.05700 5069093.35300
SECONDARY_SW_QUAD_XY: 689593.75600 5068943.22100
RMSE_XY: 1.70000
IMAGE_SOURCE: BLACK AND WHITE FILM
SOURCE_IMAGE_ID: NAPP 9138 031
SOURCE_IMAGE_DATE: 1996 08 23
SOURCE_IMAGE_ID: NAPP 9138 032
SOURCE_IMAGE_DATE: 1996 08 23
SOURCE_IMAGE_ID: NAPP 9137 231
SOURCE_IMAGE_DATE: 1996 08 23
SOURCE_DEM_DATE: 1997 01 01
AGENCY: WESTERN MAPPING CENTER (WMC)
PRODUCER: UNDEFINED
PRODUCTION_SYSTEM: GIS/MAGIC
COMPRESSION: UNDEFINED
STANDARD_VERSION: 1996 12
METADATA_DATE: 1999 04 28
DATA_FILE_SIZE: 44149650
BYTE_COUNT: 5730
