FILENAME: O4510811.NES.1007316.tif
QUADRANGLE_NAME: RIMROCK
QUADRANT: NE
WEST_LONGITUDE: -108 41 15.00000
EAST_LONGITUDE: -108 37 30.00000
NORTH_LATITUDE: 45 52 30.00000
SOUTH_LATITUDE: 45 48 45.00000
PRODUCTION_DATE: 1999 4 12
RASTER_ORDER: LEFT_RIGHT/TOP_BOTTOM
BAND_ORGANIZATION: SINGLE FILE
BAND_CONTENT: BLACK&WHITE
BAND_CONTENT: UNDEFINED
BAND_CONTENT: UNDEFINED
BITS_PER_PIXEL: 8
SAMPLES_AND_LINES: 5714 7697
HORIZONTAL_DATUM: NAD83
HORIZONTAL_COORDINATE_SYSTEM: UTM
COORDINATE_ZONE: 12
HORIZONTAL_UNITS: METERS
HORIZONTAL_RESOLUTION: 1.00000
SECONDARY_HORIZONTAL_DATUM: NAD27
XY_ORIGIN: 679108.00000 5083203.00000
SECONDARY_XY_ORIGIN: 679167.40900 5082992.09400
NATION: US
NATION: "SCIENCE
STATE: MT
NW_QUAD_CORNER_XY: 679463.59500 5082759.68200
NE_QUAD_CORNER_XY: 684313.88200 5082902.18300
SE_QUAD_CORNERY_XY: 684520.50400 5075958.36400
SW_QUAD_CORNER_XY: 679664.77400 5075815.85400
SECONDARY_NW_QUAD_XY: 679468.99500 5082541.87500
SECONDARY_NE_QUAD_XY: 684319.42700 5082684.38000
SECONDARY_SE_QUAD_XY: 684526.04800 5075740.60500
SECONDARY_SW_QUAD_XY: 679670.17200 5075598.09100
RMSE_XY: 2.20000
IMAGE_SOURCE: BLACK AND WHITE FILM
SOURCE_IMAGE_ID: NAPP 9138 293
SOURCE_IMAGE_DATE: 1996 08 23
SOURCE_IMAGE_ID: NAPP 9138 292
SOURCE_IMAGE_DATE: 1996 08 23
SOURCE_IMAGE_ID: NAPP 9138 294
SOURCE_IMAGE_DATE: 1996 08 23
SOURCE_DEM_DATE: 1981 08 00
AGENCY: WESTERN MAPPING CENTER (WMC)
PRODUCER: UNDEFINED
PRODUCTION_SYSTEM: GIS/MAGIC
COMPRESSION: UNDEFINED
STANDARD_VERSION: 1996 12
METADATA_DATE: 1999 04 28
DATA_FILE_SIZE: 43986372
BYTE_COUNT: 5714
