FILENAME: O4510811.NWS.1007317.tif
QUADRANGLE_NAME: RIMROCK
QUADRANT: NW
WEST_LONGITUDE: -108 45 0.00000
EAST_LONGITUDE: -108 41 15.00000
NORTH_LATITUDE: 45 52 30.00000
SOUTH_LATITUDE: 45 48 45.00000
PRODUCTION_DATE: 1999 4 12
RASTER_ORDER: LEFT_RIGHT/TOP_BOTTOM
BAND_ORGANIZATION: SINGLE FILE
BAND_CONTENT: BLACK&WHITE
BAND_CONTENT: UNDEFINED
BAND_CONTENT: UNDEFINED
BITS_PER_PIXEL: 8
SAMPLES_AND_LINES: 5708 7692
HORIZONTAL_DATUM: NAD83
HORIZONTAL_COORDINATE_SYSTEM: UTM
COORDINATE_ZONE: 12
HORIZONTAL_UNITS: METERS
HORIZONTAL_RESOLUTION: 1.00000
SECONDARY_HORIZONTAL_DATUM: NAD27
XY_ORIGIN: 674258.00000 5083060.00000
SECONDARY_XY_ORIGIN: 674317.44800 5082849.11300
NATION: US
NATION: "SCIENCE
STATE: MT
NW_QUAD_CORNER_XY: 674613.30200 5082620.98600
NE_QUAD_CORNER_XY: 679463.59500 5082759.68200
SE_QUAD_CORNERY_XY: 679664.77400 5075815.85400
SW_QUAD_CORNER_XY: 674809.03800 5075677.14900
SECONDARY_NW_QUAD_XY: 674618.55600 5082403.17400
SECONDARY_NE_QUAD_XY: 679468.99500 5082541.87500
SECONDARY_SE_QUAD_XY: 679670.17200 5075598.09100
SECONDARY_SW_QUAD_XY: 674814.29100 5075459.38200
RMSE_XY: 1.80000
IMAGE_SOURCE: BLACK AND WHITE FILM
SOURCE_IMAGE_ID: NAPP 9140 093
SOURCE_IMAGE_DATE: 1996 08 23
SOURCE_IMAGE_ID: NAPP 9141 033
SOURCE_IMAGE_DATE: 1996 08 23
SOURCE_IMAGE_ID: NAPP 9140 094
SOURCE_IMAGE_DATE: 1996 08 23
SOURCE_DEM_DATE: 1981 08 00
AGENCY: WESTERN MAPPING CENTER (WMC)
PRODUCER: UNDEFINED
PRODUCTION_SYSTEM: GIS/MAGIC
COMPRESSION: UNDEFINED
STANDARD_VERSION: 1996 12
METADATA_DATE: 1999 04 28
DATA_FILE_SIZE: 43911644
BYTE_COUNT: 5708
