FILENAME: O4510810.NES.1007246.tif
QUADRANGLE_NAME: TWO PINE SCHOOL
QUADRANT: NE
WEST_LONGITUDE: -108 48 45.00000
EAST_LONGITUDE: -108 45 0.00000
NORTH_LATITUDE: 45 52 30.00000
SOUTH_LATITUDE: 45 48 45.00000
PRODUCTION_DATE: 1999 4 9
RASTER_ORDER: LEFT_RIGHT/TOP_BOTTOM
BAND_ORGANIZATION: SINGLE FILE
BAND_CONTENT: BLACK&WHITE
BAND_CONTENT: UNDEFINED
BAND_CONTENT: UNDEFINED
BITS_PER_PIXEL: 8
SAMPLES_AND_LINES: 5704 7688
HORIZONTAL_DATUM: NAD83
HORIZONTAL_COORDINATE_SYSTEM: UTM
COORDINATE_ZONE: 12
HORIZONTAL_UNITS: METERS
HORIZONTAL_RESOLUTION: 1.00000
SECONDARY_HORIZONTAL_DATUM: NAD27
XY_ORIGIN: 669407.00000 5082921.00000
SECONDARY_XY_ORIGIN: 669466.52700 5082710.21400
NATION: US
NATION: "SCIENCE
STATE: MT
NW_QUAD_CORNER_XY: 669763.00300 5082486.09300
NE_QUAD_CORNER_XY: 674613.30200 5082620.98600
SE_QUAD_CORNERY_XY: 674809.03800 5075677.14900
SW_QUAD_CORNER_XY: 669953.29700 5075542.24800
SECONDARY_NW_QUAD_XY: 669768.11100 5082268.27700
SECONDARY_NE_QUAD_XY: 674618.55600 5082403.17400
SECONDARY_SE_QUAD_XY: 674814.29100 5075459.38200
SECONDARY_SW_QUAD_XY: 669958.40300 5075324.47600
RMSE_XY: 2.90000
IMAGE_SOURCE: BLACK AND WHITE FILM
SOURCE_IMAGE_ID: NAPP 9141 034
SOURCE_IMAGE_DATE: 1996 08 23
SOURCE_IMAGE_ID: NAPP 9147 009
SOURCE_IMAGE_DATE: 1996 08 24
SOURCE_IMAGE_ID: NAPP 9141 033
SOURCE_IMAGE_DATE: 1996 08 23
SOURCE_IMAGE_ID: NAPP 9141 035
SOURCE_IMAGE_DATE: 1996 08 23
SOURCE_DEM_DATE: 1981 09 00
AGENCY: WESTERN MAPPING CENTER (WMC)
PRODUCER: UNDEFINED
PRODUCTION_SYSTEM: GIS/MAGIC
COMPRESSION: UNDEFINED
STANDARD_VERSION: 1996 12
METADATA_DATE: 1999 04 28
DATA_FILE_SIZE: 43858056
BYTE_COUNT: 5704
