FILENAME: O4510809.NWS.1007211.tif
QUADRANGLE_NAME: MOLT
QUADRANT: NW
WEST_LONGITUDE: -109 0 0.00000
EAST_LONGITUDE: -108 56 15.00000
NORTH_LATITUDE: 45 52 30.00000
SOUTH_LATITUDE: 45 48 45.00000
PRODUCTION_DATE: 1999 4 9
RASTER_ORDER: LEFT_RIGHT/TOP_BOTTOM
BAND_ORGANIZATION: SINGLE FILE
BAND_CONTENT: BLACK&WHITE
BAND_CONTENT: UNDEFINED
BAND_CONTENT: UNDEFINED
BITS_PER_PIXEL: 8
SAMPLES_AND_LINES: 5688 7678
HORIZONTAL_DATUM: NAD83
HORIZONTAL_COORDINATE_SYSTEM: UTM
COORDINATE_ZONE: 12
HORIZONTAL_UNITS: METERS
HORIZONTAL_RESOLUTION: 1.00000
SECONDARY_HORIZONTAL_DATUM: NAD27
XY_ORIGIN: 654855.00000 5082528.00000
SECONDARY_XY_ORIGIN: 654914.77700 5082317.49100
NATION: US
NATION: "SCIENCE
STATE: MT
NW_QUAD_CORNER_XY: 655212.07000 5082104.23200
NE_QUAD_CORNER_XY: 660062.38700 5082227.71600
SE_QUAD_CORNERY_XY: 660241.79700 5075283.85500
SW_QUAD_CORNER_XY: 655386.04000 5075160.36300
SECONDARY_NW_QUAD_XY: 655216.74000 5081886.40500
SECONDARY_NE_QUAD_XY: 660067.20300 5082009.89300
SECONDARY_SE_QUAD_XY: 660246.61200 5075066.07600
SECONDARY_SW_QUAD_XY: 655390.70800 5074942.58000
RMSE_XY: 2.10000
IMAGE_SOURCE: BLACK AND WHITE FILM
SOURCE_IMAGE_ID: NAPP 9147 268
SOURCE_IMAGE_DATE: 1996 08 24
SOURCE_IMAGE_ID: NAPP 9147 269
SOURCE_IMAGE_DATE: 1996 08 24
SOURCE_DEM_DATE: 1975 07 00
AGENCY: WESTERN MAPPING CENTER (WMC)
PRODUCER: UNDEFINED
PRODUCTION_SYSTEM: GIS/MAGIC
COMPRESSION: UNDEFINED
STANDARD_VERSION: 1996 12
METADATA_DATE: 1999 04 28
DATA_FILE_SIZE: 43678152
BYTE_COUNT: 5688
