FILENAME: O4510808.NES.1007036.tif
QUADRANGLE_NAME: NIBBE
QUADRANT: NE
WEST_LONGITUDE: -108 3 45.00000
EAST_LONGITUDE: -108 0 0.00000
NORTH_LATITUDE: 46 0 0.00000
SOUTH_LATITUDE: 45 56 15.00000
PRODUCTION_DATE: 1999 4 12
RASTER_ORDER: LEFT_RIGHT/TOP_BOTTOM
BAND_ORGANIZATION: SINGLE FILE
BAND_CONTENT: BLACK&WHITE
BAND_CONTENT: UNDEFINED
BAND_CONTENT: UNDEFINED
BITS_PER_PIXEL: 8
SAMPLES_AND_LINES: 5755 7734
HORIZONTAL_DATUM: NAD83
HORIZONTAL_COORDINATE_SYSTEM: UTM
COORDINATE_ZONE: 12
HORIZONTAL_UNITS: METERS
HORIZONTAL_RESOLUTION: 1.00000
SECONDARY_HORIZONTAL_DATUM: NAD27
XY_ORIGIN: 727101.00000 5098725.00000
SECONDARY_XY_ORIGIN: 727159.51500 5098512.71200
NATION: US
NATION: "SCIENCE
STATE: MT
NW_QUAD_CORNER_XY: 727454.06000 5098243.54600
NE_QUAD_CORNER_XY: 732293.35900 5098424.07900
SE_QUAD_CORNERY_XY: 732554.99700 5091480.25200
SW_QUAD_CORNER_XY: 727710.23800 5091299.70600
SECONDARY_NW_QUAD_XY: 727460.92300 5098025.70100
SECONDARY_NE_QUAD_XY: 732300.36800 5098206.24000
SECONDARY_SE_QUAD_XY: 732562.00500 5091262.45500
SECONDARY_SW_QUAD_XY: 727717.10000 5091081.90300
RMSE_XY: 2.90000
IMAGE_SOURCE: BLACK AND WHITE FILM
SOURCE_IMAGE_ID: NAPP 9142 053
SOURCE_IMAGE_DATE: 1996 08 24
SOURCE_IMAGE_ID: NAPP 9142 054
SOURCE_IMAGE_DATE: 1996 08 24
SOURCE_DEM_DATE: 1997 01 01
AGENCY: WESTERN MAPPING CENTER (WMC)
PRODUCER: UNDEFINED
PRODUCTION_SYSTEM: GIS/MAGIC
COMPRESSION: UNDEFINED
STANDARD_VERSION: 1996 12
METADATA_DATE: 1999 04 28
DATA_FILE_SIZE: 44514925
BYTE_COUNT: 5755
