FILENAME: O4510807.NES.1006966.tif
QUADRANGLE_NAME: WORDEN
QUADRANT: NE
WEST_LONGITUDE: -108 11 15.00000
EAST_LONGITUDE: -108 7 30.00000
NORTH_LATITUDE: 46 0 0.00000
SOUTH_LATITUDE: 45 56 15.00000
PRODUCTION_DATE: 1999 4 16
RASTER_ORDER: LEFT_RIGHT/TOP_BOTTOM
BAND_ORGANIZATION: SINGLE FILE
BAND_CONTENT: BLACK&WHITE
BAND_CONTENT: UNDEFINED
BAND_CONTENT: UNDEFINED
BITS_PER_PIXEL: 8
SAMPLES_AND_LINES: 5745 7726
HORIZONTAL_DATUM: NAD83
HORIZONTAL_COORDINATE_SYSTEM: UTM
COORDINATE_ZONE: 12
HORIZONTAL_UNITS: METERS
HORIZONTAL_RESOLUTION: 1.00000
SECONDARY_HORIZONTAL_DATUM: NAD27
XY_ORIGIN: 717422.00000 5098367.00000
SECONDARY_XY_ORIGIN: 717480.78800 5098155.18900
NATION: US
NATION: "SCIENCE
STATE: MT
NW_QUAD_CORNER_XY: 717775.43500 5097893.89900
NE_QUAD_CORNER_XY: 722614.75200 5098066.81900
SE_QUAD_CORNERY_XY: 722865.47100 5091122.96600
SW_QUAD_CORNER_XY: 718020.69500 5090950.03300
SECONDARY_NW_QUAD_XY: 717782.00600 5097676.04400
SECONDARY_NE_QUAD_XY: 722621.46900 5097848.96900
SECONDARY_SE_QUAD_XY: 722872.18700 5090905.15800
SECONDARY_SW_QUAD_XY: 718027.26500 5090732.22000
RMSE_XY: 1.60000
IMAGE_SOURCE: BLACK AND WHITE FILM
SOURCE_IMAGE_ID: NAPP 9143 037
SOURCE_IMAGE_DATE: 1996 08 24
SOURCE_IMAGE_ID: NAPP 9143 036
SOURCE_IMAGE_DATE: 1996 08 24
SOURCE_IMAGE_ID: NAPP 9143 038
SOURCE_IMAGE_DATE: 1996 08 24
SOURCE_DEM_DATE: 1997 01 01
AGENCY: WESTERN MAPPING CENTER (WMC)
PRODUCER: UNDEFINED
PRODUCTION_SYSTEM: GIS/MAGIC
COMPRESSION: UNDEFINED
STANDARD_VERSION: 1996 12
METADATA_DATE: 1999 04 28
DATA_FILE_SIZE: 44391615
BYTE_COUNT: 5745
