FILENAME: O4510807.SES.1006968.tif
QUADRANGLE_NAME: WORDEN
QUADRANT: SE
WEST_LONGITUDE: -108 11 15.00000
EAST_LONGITUDE: -108 7 30.00000
NORTH_LATITUDE: 45 56 15.00000
SOUTH_LATITUDE: 45 52 30.00000
PRODUCTION_DATE: 1999 4 12
RASTER_ORDER: LEFT_RIGHT/TOP_BOTTOM
BAND_ORGANIZATION: SINGLE FILE
BAND_CONTENT: BLACK&WHITE
BAND_CONTENT: UNDEFINED
BAND_CONTENT: UNDEFINED
BITS_PER_PIXEL: 8
SAMPLES_AND_LINES: 5750 7726
HORIZONTAL_DATUM: NAD83
HORIZONTAL_COORDINATE_SYSTEM: UTM
COORDINATE_ZONE: 12
HORIZONTAL_UNITS: METERS
HORIZONTAL_RESOLUTION: 1.00000
SECONDARY_HORIZONTAL_DATUM: NAD27
XY_ORIGIN: 717667.00000 5091423.00000
SECONDARY_XY_ORIGIN: 717725.95400 5091211.43400
NATION: US
NATION: "SCIENCE
STATE: MT
NW_QUAD_CORNER_XY: 718020.69500 5090950.03300
NE_QUAD_CORNER_XY: 722865.47100 5091122.96600
SE_QUAD_CORNERY_XY: 723115.92400 5084179.17000
SW_QUAD_CORNER_XY: 718265.69400 5084006.22600
SECONDARY_NW_QUAD_XY: 718027.26500 5090732.22000
SECONDARY_NE_QUAD_XY: 722872.18700 5090905.15800
SECONDARY_SE_QUAD_XY: 723122.63700 5083961.40500
SECONDARY_SW_QUAD_XY: 718272.26200 5083788.45600
RMSE_XY: 1.90000
IMAGE_SOURCE: BLACK AND WHITE FILM
SOURCE_IMAGE_ID: NAPP 9143 035
SOURCE_IMAGE_DATE: 1996 08 24
SOURCE_IMAGE_ID: NAPP 9142 252
SOURCE_IMAGE_DATE: 1996 08 24
SOURCE_DEM_DATE: 1997 01 01
AGENCY: WESTERN MAPPING CENTER (WMC)
PRODUCER: UNDEFINED
PRODUCTION_SYSTEM: GIS/MAGIC
COMPRESSION: UNDEFINED
STANDARD_VERSION: 1996 12
METADATA_DATE: 1999 04 28
DATA_FILE_SIZE: 44430250
BYTE_COUNT: 5750
