FILENAME: O4510806.NWS.1006930.tif
QUADRANGLE_NAME: HUNTLEY
QUADRANT: NW
WEST_LONGITUDE: -108 22 30.00000
EAST_LONGITUDE: -108 18 45.00000
NORTH_LATITUDE: 46 0 0.00000
SOUTH_LATITUDE: 45 56 15.00000
PRODUCTION_DATE: 1999 4 16
RASTER_ORDER: LEFT_RIGHT/TOP_BOTTOM
BAND_ORGANIZATION: SINGLE FILE
BAND_CONTENT: BLACK&WHITE
BAND_CONTENT: UNDEFINED
BAND_CONTENT: UNDEFINED
BITS_PER_PIXEL: 8
SAMPLES_AND_LINES: 5730 7715
HORIZONTAL_DATUM: NAD83
HORIZONTAL_COORDINATE_SYSTEM: UTM
COORDINATE_ZONE: 12
HORIZONTAL_UNITS: METERS
HORIZONTAL_RESOLUTION: 1.00000
SECONDARY_HORIZONTAL_DATUM: NAD27
XY_ORIGIN: 702903.00000 5097860.00000
SECONDARY_XY_ORIGIN: 702962.06700 5097648.59100
NATION: US
NATION: "SCIENCE
STATE: MT
NW_QUAD_CORNER_XY: 703257.43100 5097397.97400
NE_QUAD_CORNER_XY: 708096.77400 5097559.47700
SE_QUAD_CORNERY_XY: 708331.11800 5090615.58700
SW_QUAD_CORNER_XY: 703486.31700 5090454.07300
SECONDARY_NW_QUAD_XY: 703263.56300 5097180.10400
SECONDARY_NE_QUAD_XY: 708103.05300 5097341.61100
SECONDARY_SE_QUAD_XY: 708337.39500 5090397.76400
SECONDARY_SW_QUAD_XY: 703492.44900 5090236.24500
RMSE_XY: 2.60000
IMAGE_SOURCE: BLACK AND WHITE FILM
SOURCE_IMAGE_ID: NAPP 9137 080
SOURCE_IMAGE_DATE: 1996 08 23
SOURCE_IMAGE_ID: NAPP 9137 081
SOURCE_IMAGE_DATE: 1996 08 23
SOURCE_IMAGE_ID: NAPP 9137 079
SOURCE_IMAGE_DATE: 1996 08 23
SOURCE_DEM_DATE: 1997 01 01
AGENCY: WESTERN MAPPING CENTER (WMC)
PRODUCER: UNDEFINED
PRODUCTION_SYSTEM: GIS/MAGIC
COMPRESSION: UNDEFINED
STANDARD_VERSION: 1996 12
METADATA_DATE: 1999 04 28
DATA_FILE_SIZE: 44212680
BYTE_COUNT: 5730
