FILENAME: O4510806.SES.1006931.tif
QUADRANGLE_NAME: HUNTLEY
QUADRANT: SE
WEST_LONGITUDE: -108 18 45.00000
EAST_LONGITUDE: -108 15 0.00000
NORTH_LATITUDE: 45 56 15.00000
SOUTH_LATITUDE: 45 52 30.00000
PRODUCTION_DATE: 1999 4 12
RASTER_ORDER: LEFT_RIGHT/TOP_BOTTOM
BAND_ORGANIZATION: SINGLE FILE
BAND_CONTENT: BLACK&WHITE
BAND_CONTENT: UNDEFINED
BAND_CONTENT: UNDEFINED
BITS_PER_PIXEL: 8
SAMPLES_AND_LINES: 5740 7718
HORIZONTAL_DATUM: NAD83
HORIZONTAL_COORDINATE_SYSTEM: UTM
COORDINATE_ZONE: 12
HORIZONTAL_UNITS: METERS
HORIZONTAL_RESOLUTION: 1.00000
SECONDARY_HORIZONTAL_DATUM: NAD27
XY_ORIGIN: 707977.00000 5091081.00000
SECONDARY_XY_ORIGIN: 708036.11200 5090869.70100
NATION: US
NATION: "SCIENCE
STATE: MT
NW_QUAD_CORNER_XY: 708331.11800 5090615.58700
NE_QUAD_CORNER_XY: 713175.91100 5090780.90700
SE_QUAD_CORNERY_XY: 713415.45700 5083837.08800
SW_QUAD_CORNER_XY: 708565.21300 5083671.75700
SECONDARY_NW_QUAD_XY: 708337.39500 5090397.76400
SECONDARY_NE_QUAD_XY: 713182.33400 5090563.08900
SECONDARY_SE_QUAD_XY: 713421.87900 5083619.31300
SECONDARY_SW_QUAD_XY: 708571.48900 5083453.97700
RMSE_XY: 2.80000
IMAGE_SOURCE: BLACK AND WHITE FILM
SOURCE_IMAGE_ID: NAPP 9134 032
SOURCE_IMAGE_DATE: 1996 08 10
SOURCE_IMAGE_ID: NAPP 9134 031
SOURCE_IMAGE_DATE: 1996 08 10
SOURCE_DEM_DATE: 1997 01 01
AGENCY: WESTERN MAPPING CENTER (WMC)
PRODUCER: UNDEFINED
PRODUCTION_SYSTEM: GIS/MAGIC
COMPRESSION: UNDEFINED
STANDARD_VERSION: 1996 12
METADATA_DATE: 1999 04 28
DATA_FILE_SIZE: 44307060
BYTE_COUNT: 5740
