FILENAME: O4510806.SWS.1006932.tif
QUADRANGLE_NAME: HUNTLEY
QUADRANT: SW
WEST_LONGITUDE: -108 22 30.00000
EAST_LONGITUDE: -108 18 45.00000
NORTH_LATITUDE: 45 56 15.00000
SOUTH_LATITUDE: 45 52 30.00000
PRODUCTION_DATE: 1999 4 12
RASTER_ORDER: LEFT_RIGHT/TOP_BOTTOM
BAND_ORGANIZATION: SINGLE FILE
BAND_CONTENT: BLACK&WHITE
BAND_CONTENT: UNDEFINED
BAND_CONTENT: UNDEFINED
BITS_PER_PIXEL: 8
SAMPLES_AND_LINES: 5735 7715
HORIZONTAL_DATUM: NAD83
HORIZONTAL_COORDINATE_SYSTEM: UTM
COORDINATE_ZONE: 12
HORIZONTAL_UNITS: METERS
HORIZONTAL_RESOLUTION: 1.00000
SECONDARY_HORIZONTAL_DATUM: NAD27
XY_ORIGIN: 703132.00000 5090916.00000
SECONDARY_XY_ORIGIN: 703191.15700 5090704.76600
NATION: US
NATION: "SCIENCE
STATE: MT
NW_QUAD_CORNER_XY: 703486.31700 5090454.07300
NE_QUAD_CORNER_XY: 708331.11800 5090615.58700
SE_QUAD_CORNERY_XY: 708565.21300 5083671.75700
SW_QUAD_CORNER_XY: 703714.96100 5083510.23100
SECONDARY_NW_QUAD_XY: 703492.44900 5090236.24500
SECONDARY_NE_QUAD_XY: 708337.39500 5090397.76400
SECONDARY_SE_QUAD_XY: 708571.48900 5083453.97700
SECONDARY_SW_QUAD_XY: 703721.09100 5083292.44700
RMSE_XY: 2.80000
IMAGE_SOURCE: BLACK AND WHITE FILM
SOURCE_IMAGE_ID: NAPP 9137 082
SOURCE_IMAGE_DATE: 1996 08 23
SOURCE_IMAGE_ID: NAPP 9137 084
SOURCE_IMAGE_DATE: 1996 08 23
SOURCE_IMAGE_ID: NAPP 9137 083
SOURCE_IMAGE_DATE: 1996 08 23
SOURCE_IMAGE_ID: NAPP 9137 080
SOURCE_IMAGE_DATE: 1996 08 23
SOURCE_DEM_DATE: 1997 01 01
AGENCY: WESTERN MAPPING CENTER (WMC)
PRODUCER: UNDEFINED
PRODUCTION_SYSTEM: GIS/MAGIC
COMPRESSION: UNDEFINED
STANDARD_VERSION: 1996 12
METADATA_DATE: 1999 04 28
DATA_FILE_SIZE: 44251260
BYTE_COUNT: 5735
