FILENAME: O4510805.NWS.1007384.tif
QUADRANGLE_NAME: RATTLESNAKE BUTTE
QUADRANT: NW
WEST_LONGITUDE: -108 30 0.00000
EAST_LONGITUDE: -108 26 15.00000
NORTH_LATITUDE: 46 0 0.00000
SOUTH_LATITUDE: 45 56 15.00000
PRODUCTION_DATE: 1999 4 12
RASTER_ORDER: LEFT_RIGHT/TOP_BOTTOM
BAND_ORGANIZATION: SINGLE FILE
BAND_CONTENT: BLACK&WHITE
BAND_CONTENT: UNDEFINED
BAND_CONTENT: UNDEFINED
BITS_PER_PIXEL: 8
SAMPLES_AND_LINES: 5719 7708
HORIZONTAL_DATUM: NAD83
HORIZONTAL_COORDINATE_SYSTEM: UTM
COORDINATE_ZONE: 12
HORIZONTAL_UNITS: METERS
HORIZONTAL_RESOLUTION: 1.00000
SECONDARY_HORIZONTAL_DATUM: NAD27
XY_ORIGIN: 693224.00000 5097541.00000
SECONDARY_XY_ORIGIN: 693283.21700 5097329.75900
NATION: US
NATION: "SCIENCE
STATE: MT
NW_QUAD_CORNER_XY: 693578.71900 5097086.38400
NE_QUAD_CORNER_XY: 698418.07900 5097240.27700
SE_QUAD_CORNERY_XY: 698641.50900 5090296.36400
SW_QUAD_CORNER_XY: 693796.69300 5090142.46000
SECONDARY_NW_QUAD_XY: 693584.56000 5096868.50400
SECONDARY_NE_QUAD_XY: 698424.06500 5097022.40200
SECONDARY_SE_QUAD_XY: 698647.49400 5090078.53100
SECONDARY_SW_QUAD_XY: 693802.53200 5089924.62200
RMSE_XY: 2.40000
IMAGE_SOURCE: BLACK AND WHITE FILM
SOURCE_IMAGE_ID: NAPP 9137 226
SOURCE_IMAGE_DATE: 1996 08 23
SOURCE_IMAGE_ID: NAPP 9137 228
SOURCE_IMAGE_DATE: 1996 08 23
SOURCE_DEM_DATE: 1997 01 01
AGENCY: WESTERN MAPPING CENTER (WMC)
PRODUCER: UNDEFINED
PRODUCTION_SYSTEM: GIS/MAGIC
COMPRESSION: UNDEFINED
STANDARD_VERSION: 1996 12
METADATA_DATE: 1999 04 28
DATA_FILE_SIZE: 44087771
BYTE_COUNT: 5719
