FILENAME: O4510805.SES.1007385.tif
QUADRANGLE_NAME: RATTLESNAKE BUTTE
QUADRANT: SE
WEST_LONGITUDE: -108 26 15.00000
EAST_LONGITUDE: -108 22 30.00000
NORTH_LATITUDE: 45 56 15.00000
SOUTH_LATITUDE: 45 52 30.00000
PRODUCTION_DATE: 1999 4 12
RASTER_ORDER: LEFT_RIGHT/TOP_BOTTOM
BAND_ORGANIZATION: SINGLE FILE
BAND_CONTENT: BLACK&WHITE
BAND_CONTENT: UNDEFINED
BAND_CONTENT: UNDEFINED
BITS_PER_PIXEL: 8
SAMPLES_AND_LINES: 5729 7712
HORIZONTAL_DATUM: NAD83
HORIZONTAL_COORDINATE_SYSTEM: UTM
COORDINATE_ZONE: 12
HORIZONTAL_UNITS: METERS
HORIZONTAL_RESOLUTION: 1.00000
SECONDARY_HORIZONTAL_DATUM: NAD27
XY_ORIGIN: 698287.00000 5090755.00000
SECONDARY_XY_ORIGIN: 698346.20300 5090543.83100
NATION: US
NATION: "SCIENCE
STATE: MT
NW_QUAD_CORNER_XY: 698641.50900 5090296.36400
NE_QUAD_CORNER_XY: 703486.31700 5090454.07300
SE_QUAD_CORNERY_XY: 703714.96100 5083510.23100
SW_QUAD_CORNER_XY: 698864.70100 5083352.51200
SECONDARY_NW_QUAD_XY: 698647.49400 5090078.53100
SECONDARY_NE_QUAD_XY: 703492.44900 5090236.24500
SECONDARY_SE_QUAD_XY: 703721.09100 5083292.44700
SECONDARY_SW_QUAD_XY: 698870.68500 5083134.72200
RMSE_XY: 3.10000
IMAGE_SOURCE: BLACK AND WHITE FILM
SOURCE_IMAGE_ID: NAPP 9137 141
SOURCE_IMAGE_DATE: 1996 08 23
SOURCE_IMAGE_ID: NAPP 9137 228
SOURCE_IMAGE_DATE: 1996 08 23
SOURCE_IMAGE_ID: NAPP 9137 139
SOURCE_IMAGE_DATE: 1996 08 23
SOURCE_IMAGE_ID: NAPP 9137 143
SOURCE_IMAGE_DATE: 1996 08 23
SOURCE_DEM_DATE: 1997 01 01
AGENCY: WESTERN MAPPING CENTER (WMC)
PRODUCER: UNDEFINED
PRODUCTION_SYSTEM: GIS/MAGIC
COMPRESSION: UNDEFINED
STANDARD_VERSION: 1996 12
METADATA_DATE: 1999 04 28
DATA_FILE_SIZE: 44187777
BYTE_COUNT: 5729
