FILENAME: O4510804.NWS.1007352.tif
QUADRANGLE_NAME: HICKSON RANCH
QUADRANT: NW
WEST_LONGITUDE: -108 37 30.00000
EAST_LONGITUDE: -108 33 45.00000
NORTH_LATITUDE: 46 0 0.00000
SOUTH_LATITUDE: 45 56 15.00000
PRODUCTION_DATE: 1999 4 9
RASTER_ORDER: LEFT_RIGHT/TOP_BOTTOM
BAND_ORGANIZATION: SINGLE FILE
BAND_CONTENT: BLACK&WHITE
BAND_CONTENT: UNDEFINED
BAND_CONTENT: UNDEFINED
BITS_PER_PIXEL: 8
SAMPLES_AND_LINES: 5708 7700
HORIZONTAL_DATUM: NAD83
HORIZONTAL_COORDINATE_SYSTEM: UTM
COORDINATE_ZONE: 12
HORIZONTAL_UNITS: METERS
HORIZONTAL_RESOLUTION: 1.00000
SECONDARY_HORIZONTAL_DATUM: NAD27
XY_ORIGIN: 683545.00000 5097237.00000
SECONDARY_XY_ORIGIN: 683604.29200 5097025.80400
NATION: US
NATION: "SCIENCE
STATE: MT
NW_QUAD_CORNER_XY: 683899.97600 5096790.01100
NE_QUAD_CORNER_XY: 688739.35100 5096936.29500
SE_QUAD_CORNERY_XY: 688951.87000 5089992.36000
SW_QUAD_CORNER_XY: 684107.03900 5089846.06500
SECONDARY_NW_QUAD_XY: 683905.52400 5096572.12200
SECONDARY_NE_QUAD_XY: 688745.04600 5096718.41100
SECONDARY_SE_QUAD_XY: 688957.56300 5089774.51800
SECONDARY_SW_QUAD_XY: 684112.58600 5089628.21900
RMSE_XY: 2.50000
IMAGE_SOURCE: BLACK AND WHITE FILM
SOURCE_IMAGE_ID: NAPP 9138 234
SOURCE_IMAGE_DATE: 1996 08 23
SOURCE_IMAGE_ID: NAPP 9138 298
SOURCE_IMAGE_DATE: 1996 08 23
SOURCE_IMAGE_ID: NAPP 9138 233
SOURCE_IMAGE_DATE: 1996 08 23
SOURCE_DEM_DATE: 1997 01 01
AGENCY: WESTERN MAPPING CENTER (WMC)
PRODUCER: UNDEFINED
PRODUCTION_SYSTEM: GIS/MAGIC
COMPRESSION: UNDEFINED
STANDARD_VERSION: 1996 12
METADATA_DATE: 1999 04 28
DATA_FILE_SIZE: 43957308
BYTE_COUNT: 5708
