FILENAME: O4510804.SES.1007353.tif
QUADRANGLE_NAME: HICKSON RANCH
QUADRANT: SE
WEST_LONGITUDE: -108 33 45.00000
EAST_LONGITUDE: -108 30 0.00000
NORTH_LATITUDE: 45 56 15.00000
SOUTH_LATITUDE: 45 52 30.00000
PRODUCTION_DATE: 1999 4 9
RASTER_ORDER: LEFT_RIGHT/TOP_BOTTOM
BAND_ORGANIZATION: SINGLE FILE
BAND_CONTENT: BLACK&WHITE
BAND_CONTENT: UNDEFINED
BAND_CONTENT: UNDEFINED
BITS_PER_PIXEL: 8
SAMPLES_AND_LINES: 5719 7704
HORIZONTAL_DATUM: NAD83
HORIZONTAL_COORDINATE_SYSTEM: UTM
COORDINATE_ZONE: 12
HORIZONTAL_UNITS: METERS
HORIZONTAL_RESOLUTION: 1.00000
SECONDARY_HORIZONTAL_DATUM: NAD27
XY_ORIGIN: 688597.00000 5090443.00000
SECONDARY_XY_ORIGIN: 688656.29400 5090231.91900
NATION: US
NATION: "SCIENCE
STATE: MT
NW_QUAD_CORNER_XY: 688951.87000 5089992.36000
NE_QUAD_CORNER_XY: 693796.69300 5090142.46000
SE_QUAD_CORNERY_XY: 694014.43500 5083198.59700
SW_QUAD_CORNER_XY: 689164.16200 5083048.48800
SECONDARY_NW_QUAD_XY: 688957.56300 5089774.51800
SECONDARY_NE_QUAD_XY: 693802.53200 5089924.62200
SECONDARY_SE_QUAD_XY: 694020.27300 5082980.80300
SECONDARY_SW_QUAD_XY: 689169.85400 5082830.68900
RMSE_XY: 3.10000
IMAGE_SOURCE: BLACK AND WHITE FILM
SOURCE_IMAGE_ID: NAPP 9138 035
SOURCE_IMAGE_DATE: 1996 08 23
SOURCE_DEM_DATE: 1997 01 01
AGENCY: WESTERN MAPPING CENTER (WMC)
PRODUCER: UNDEFINED
PRODUCTION_SYSTEM: GIS/MAGIC
COMPRESSION: UNDEFINED
STANDARD_VERSION: 1996 12
METADATA_DATE: 1999 04 28
DATA_FILE_SIZE: 44064895
BYTE_COUNT: 5719
