FILENAME: O4510803.NWS.1007313.tif
QUADRANGLE_NAME: ACTON
QUADRANT: NW
WEST_LONGITUDE: -108 45 0.00000
EAST_LONGITUDE: -108 41 15.00000
NORTH_LATITUDE: 46 0 0.00000
SOUTH_LATITUDE: 45 56 15.00000
PRODUCTION_DATE: 1999 4 9
RASTER_ORDER: LEFT_RIGHT/TOP_BOTTOM
BAND_ORGANIZATION: SINGLE FILE
BAND_CONTENT: BLACK&WHITE
BAND_CONTENT: UNDEFINED
BAND_CONTENT: UNDEFINED
BITS_PER_PIXEL: 8
SAMPLES_AND_LINES: 5698 7692
HORIZONTAL_DATUM: NAD83
HORIZONTAL_COORDINATE_SYSTEM: UTM
COORDINATE_ZONE: 12
HORIZONTAL_UNITS: METERS
HORIZONTAL_RESOLUTION: 1.00000
SECONDARY_HORIZONTAL_DATUM: NAD27
XY_ORIGIN: 673866.00000 5096948.00000
SECONDARY_XY_ORIGIN: 673925.35800 5096736.84500
NATION: US
NATION: "SCIENCE
STATE: MT
NW_QUAD_CORNER_XY: 674221.20300 5096508.85300
NE_QUAD_CORNER_XY: 679060.59300 5096647.53000
SE_QUAD_CORNERY_XY: 679262.20100 5089703.57400
SW_QUAD_CORNER_XY: 674417.35700 5089564.88700
SECONDARY_NW_QUAD_XY: 674226.45900 5096290.95600
SECONDARY_NE_QUAD_XY: 679065.99500 5096429.63700
SECONDARY_SE_QUAD_XY: 679267.60200 5089485.72400
SECONDARY_SW_QUAD_XY: 674422.61200 5089347.03200
RMSE_XY: 2.60000
IMAGE_SOURCE: BLACK AND WHITE FILM
SOURCE_IMAGE_ID: NAPP 9140 089
SOURCE_IMAGE_DATE: 1996 08 23
SOURCE_DEM_DATE: 1997 01 01
AGENCY: WESTERN MAPPING CENTER (WMC)
PRODUCER: UNDEFINED
PRODUCTION_SYSTEM: GIS/MAGIC
COMPRESSION: UNDEFINED
STANDARD_VERSION: 1996 12
METADATA_DATE: 1999 04 28
DATA_FILE_SIZE: 43834714
BYTE_COUNT: 5698
