FILENAME: O4510803.SES.1007314.tif
QUADRANGLE_NAME: ACTON
QUADRANT: SE
WEST_LONGITUDE: -108 41 15.00000
EAST_LONGITUDE: -108 37 30.00000
NORTH_LATITUDE: 45 56 15.00000
SOUTH_LATITUDE: 45 52 30.00000
PRODUCTION_DATE: 1999 4 9
RASTER_ORDER: LEFT_RIGHT/TOP_BOTTOM
BAND_ORGANIZATION: SINGLE FILE
BAND_CONTENT: BLACK&WHITE
BAND_CONTENT: UNDEFINED
BAND_CONTENT: UNDEFINED
BITS_PER_PIXEL: 8
SAMPLES_AND_LINES: 5708 7697
HORIZONTAL_DATUM: NAD83
HORIZONTAL_COORDINATE_SYSTEM: UTM
COORDINATE_ZONE: 12
HORIZONTAL_UNITS: METERS
HORIZONTAL_RESOLUTION: 1.00000
SECONDARY_HORIZONTAL_DATUM: NAD27
XY_ORIGIN: 678907.00000 5090147.00000
SECONDARY_XY_ORIGIN: 678966.36700 5089935.95900
NATION: US
NATION: "SCIENCE
STATE: MT
NW_QUAD_CORNER_XY: 679262.20100 5089703.57400
NE_QUAD_CORNER_XY: 684107.03900 5089846.06500
SE_QUAD_CORNERY_XY: 684313.88200 5082902.18300
SW_QUAD_CORNER_XY: 679463.59500 5082759.68200
SECONDARY_NW_QUAD_XY: 679267.60200 5089485.72400
SECONDARY_NE_QUAD_XY: 684112.58600 5089628.21900
SECONDARY_SE_QUAD_XY: 684319.42700 5082684.38000
SECONDARY_SW_QUAD_XY: 679468.99500 5082541.87500
RMSE_XY: 2.40000
IMAGE_SOURCE: BLACK AND WHITE FILM
SOURCE_IMAGE_ID: NAPP 9138 295
SOURCE_IMAGE_DATE: 1996 08 23
SOURCE_IMAGE_ID: NAPP 9138 294
SOURCE_IMAGE_DATE: 1996 08 23
SOURCE_IMAGE_ID: NAPP 9138 297
SOURCE_IMAGE_DATE: 1996 08 23
SOURCE_DEM_DATE: 1997 01 01
AGENCY: WESTERN MAPPING CENTER (WMC)
PRODUCER: UNDEFINED
PRODUCTION_SYSTEM: GIS/MAGIC
COMPRESSION: UNDEFINED
STANDARD_VERSION: 1996 12
METADATA_DATE: 1999 04 28
DATA_FILE_SIZE: 43940184
BYTE_COUNT: 5708
