FILENAME: O4510803.SWS.1007315.tif
QUADRANGLE_NAME: ACTON
QUADRANT: SW
WEST_LONGITUDE: -108 45 0.00000
EAST_LONGITUDE: -108 41 15.00000
NORTH_LATITUDE: 45 56 15.00000
SOUTH_LATITUDE: 45 52 30.00000
PRODUCTION_DATE: 1999 4 9
RASTER_ORDER: LEFT_RIGHT/TOP_BOTTOM
BAND_ORGANIZATION: SINGLE FILE
BAND_CONTENT: BLACK&WHITE
BAND_CONTENT: UNDEFINED
BAND_CONTENT: UNDEFINED
BITS_PER_PIXEL: 8
SAMPLES_AND_LINES: 5703 7692
HORIZONTAL_DATUM: NAD83
HORIZONTAL_COORDINATE_SYSTEM: UTM
COORDINATE_ZONE: 12
HORIZONTAL_UNITS: METERS
HORIZONTAL_RESOLUTION: 1.00000
SECONDARY_HORIZONTAL_DATUM: NAD27
XY_ORIGIN: 674062.00000 5090004.00000
SECONDARY_XY_ORIGIN: 674121.40300 5089792.97900
NATION: US
NATION: "SCIENCE
STATE: MT
NW_QUAD_CORNER_XY: 674417.35700 5089564.88700
NE_QUAD_CORNER_XY: 679262.20100 5089703.57400
SE_QUAD_CORNERY_XY: 679463.59500 5082759.68200
SW_QUAD_CORNER_XY: 674613.30200 5082620.98600
SECONDARY_NW_QUAD_XY: 674422.61200 5089347.03200
SECONDARY_NE_QUAD_XY: 679267.60200 5089485.72400
SECONDARY_SE_QUAD_XY: 679468.99500 5082541.87500
SECONDARY_SW_QUAD_XY: 674618.55600 5082403.17400
RMSE_XY: 2.20000
IMAGE_SOURCE: BLACK AND WHITE FILM
SOURCE_IMAGE_ID: NAPP 9140 091
SOURCE_IMAGE_DATE: 1996 08 23
SOURCE_IMAGE_ID: NAPP 9141 035
SOURCE_IMAGE_DATE: 1996 08 23
SOURCE_IMAGE_ID: NAPP 9140 092
SOURCE_IMAGE_DATE: 1996 08 23
SOURCE_DEM_DATE: 1997 01 01
AGENCY: WESTERN MAPPING CENTER (WMC)
PRODUCER: UNDEFINED
PRODUCTION_SYSTEM: GIS/MAGIC
COMPRESSION: UNDEFINED
STANDARD_VERSION: 1996 12
METADATA_DATE: 1999 04 28
DATA_FILE_SIZE: 43873179
BYTE_COUNT: 5703
