FILENAME: O4510802.NES.1007258.tif
QUADRANGLE_NAME: COMANCHE
QUADRANT: NE
WEST_LONGITUDE: -108 48 45.00000
EAST_LONGITUDE: -108 45 0.00000
NORTH_LATITUDE: 46 0 0.00000
SOUTH_LATITUDE: 45 56 15.00000
PRODUCTION_DATE: 1999 4 9
RASTER_ORDER: LEFT_RIGHT/TOP_BOTTOM
BAND_ORGANIZATION: SINGLE FILE
BAND_CONTENT: BLACK&WHITE
BAND_CONTENT: UNDEFINED
BAND_CONTENT: UNDEFINED
BITS_PER_PIXEL: 8
SAMPLES_AND_LINES: 5693 7688
HORIZONTAL_DATUM: NAD83
HORIZONTAL_COORDINATE_SYSTEM: UTM
COORDINATE_ZONE: 12
HORIZONTAL_UNITS: METERS
HORIZONTAL_RESOLUTION: 1.00000
SECONDARY_HORIZONTAL_DATUM: NAD27
XY_ORIGIN: 669026.00000 5096809.00000
SECONDARY_XY_ORIGIN: 669085.47800 5096597.92400
NATION: US
NATION: "SCIENCE
STATE: MT
NW_QUAD_CORNER_XY: 669381.80600 5096373.97800
NE_QUAD_CORNER_XY: 674221.20300 5096508.85300
SE_QUAD_CORNERY_XY: 674417.35700 5089564.88700
SW_QUAD_CORNER_XY: 669572.50600 5089430.00300
SECONDARY_NW_QUAD_XY: 669386.91600 5096156.07700
SECONDARY_NE_QUAD_XY: 674226.45900 5096290.95600
SECONDARY_SE_QUAD_XY: 674422.61200 5089347.03200
SECONDARY_SW_QUAD_XY: 669577.61500 5089212.14400
RMSE_XY: 1.40000
IMAGE_SOURCE: BLACK AND WHITE FILM
SOURCE_IMAGE_ID: NAPP 9141 038
SOURCE_IMAGE_DATE: 1996 08 23
SOURCE_DEM_DATE: 1997 01 01
AGENCY: WESTERN MAPPING CENTER (WMC)
PRODUCER: UNDEFINED
PRODUCTION_SYSTEM: GIS/MAGIC
COMPRESSION: UNDEFINED
STANDARD_VERSION: 1996 12
METADATA_DATE: 1999 04 28
DATA_FILE_SIZE: 43773477
BYTE_COUNT: 5693
