FILENAME: O4510802.NWS.1007259.tif
QUADRANGLE_NAME: COMANCHE
QUADRANT: NW
WEST_LONGITUDE: -108 52 30.00000
EAST_LONGITUDE: -108 48 45.00000
NORTH_LATITUDE: 46 0 0.00000
SOUTH_LATITUDE: 45 56 15.00000
PRODUCTION_DATE: 1999 4 16
RASTER_ORDER: LEFT_RIGHT/TOP_BOTTOM
BAND_ORGANIZATION: SINGLE FILE
BAND_CONTENT: BLACK&WHITE
BAND_CONTENT: UNDEFINED
BAND_CONTENT: UNDEFINED
BITS_PER_PIXEL: 8
SAMPLES_AND_LINES: 5688 7685
HORIZONTAL_DATUM: NAD83
HORIZONTAL_COORDINATE_SYSTEM: UTM
COORDINATE_ZONE: 12
HORIZONTAL_UNITS: METERS
HORIZONTAL_RESOLUTION: 1.00000
SECONDARY_HORIZONTAL_DATUM: NAD27
XY_ORIGIN: 664186.00000 5096674.00000
SECONDARY_XY_ORIGIN: 664245.60000 5096462.99600
NATION: US
NATION: "SCIENCE
STATE: MT
NW_QUAD_CORNER_XY: 664542.40100 5096242.90700
NE_QUAD_CORNER_XY: 669381.80600 5096373.97800
SE_QUAD_CORNERY_XY: 669572.50600 5089430.00300
SW_QUAD_CORNER_XY: 664727.64800 5089298.92200
SECONDARY_NW_QUAD_XY: 664547.36600 5096025.00200
SECONDARY_NE_QUAD_XY: 669386.91600 5096156.07700
SECONDARY_SE_QUAD_XY: 669577.61500 5089212.14400
SECONDARY_SW_QUAD_XY: 664732.61100 5089081.05900
RMSE_XY: 2.10000
IMAGE_SOURCE: BLACK AND WHITE FILM
SOURCE_IMAGE_ID: NAPP 9157 012
SOURCE_IMAGE_DATE: 1997 09 05
SOURCE_IMAGE_ID: NAPP 9147 068
SOURCE_IMAGE_DATE: 1996 08 24
SOURCE_IMAGE_ID: NAPP 9157 013
SOURCE_IMAGE_DATE: 1997 09 05
SOURCE_DEM_DATE: 1997 01 01
AGENCY: WESTERN MAPPING CENTER (WMC)
PRODUCER: UNDEFINED
PRODUCTION_SYSTEM: GIS/MAGIC
COMPRESSION: UNDEFINED
STANDARD_VERSION: 1996 12
METADATA_DATE: 1999 04 28
DATA_FILE_SIZE: 43717968
BYTE_COUNT: 5688
