FILENAME: O4510802.SES.1007260.tif
QUADRANGLE_NAME: COMANCHE
QUADRANT: SE
WEST_LONGITUDE: -108 48 45.00000
EAST_LONGITUDE: -108 45 0.00000
NORTH_LATITUDE: 45 56 15.00000
SOUTH_LATITUDE: 45 52 30.00000
PRODUCTION_DATE: 1999 4 9
RASTER_ORDER: LEFT_RIGHT/TOP_BOTTOM
BAND_ORGANIZATION: SINGLE FILE
BAND_CONTENT: BLACK&WHITE
BAND_CONTENT: UNDEFINED
BAND_CONTENT: UNDEFINED
BITS_PER_PIXEL: 8
SAMPLES_AND_LINES: 5698 7688
HORIZONTAL_DATUM: NAD83
HORIZONTAL_COORDINATE_SYSTEM: UTM
COORDINATE_ZONE: 12
HORIZONTAL_UNITS: METERS
HORIZONTAL_RESOLUTION: 1.00000
SECONDARY_HORIZONTAL_DATUM: NAD27
XY_ORIGIN: 669217.00000 5089865.00000
SECONDARY_XY_ORIGIN: 669276.50200 5089654.06800
NATION: US
NATION: "SCIENCE
STATE: MT
NW_QUAD_CORNER_XY: 669572.50600 5089430.00300
NE_QUAD_CORNER_XY: 674417.35700 5089564.88700
SE_QUAD_CORNERY_XY: 674613.30200 5082620.98600
SW_QUAD_CORNER_XY: 669763.00300 5082486.09300
SECONDARY_NW_QUAD_XY: 669577.61500 5089212.14400
SECONDARY_NE_QUAD_XY: 674422.61200 5089347.03200
SECONDARY_SE_QUAD_XY: 674618.55600 5082403.17400
SECONDARY_SW_QUAD_XY: 669768.11100 5082268.27700
RMSE_XY: 2.60000
IMAGE_SOURCE: BLACK AND WHITE FILM
SOURCE_IMAGE_ID: NAPP 9141 036
SOURCE_IMAGE_DATE: 1996 08 23
SOURCE_IMAGE_ID: NAPP 9141 035
SOURCE_IMAGE_DATE: 1996 08 23
SOURCE_IMAGE_ID: NAPP 9141 037
SOURCE_IMAGE_DATE: 1996 08 23
SOURCE_IMAGE_ID: NAPP 9141 038
SOURCE_IMAGE_DATE: 1996 08 23
SOURCE_IMAGE_ID: NAPP 9140 091
SOURCE_IMAGE_DATE: 1996 08 23
SOURCE_DEM_DATE: 1997 01 01
AGENCY: WESTERN MAPPING CENTER (WMC)
PRODUCER: UNDEFINED
PRODUCTION_SYSTEM: GIS/MAGIC
COMPRESSION: UNDEFINED
STANDARD_VERSION: 1996 12
METADATA_DATE: 1999 04 28
DATA_FILE_SIZE: 43811922
BYTE_COUNT: 5698
