FILENAME: O4510802.SWS.1007261.tif
QUADRANGLE_NAME: COMANCHE
QUADRANT: SW
WEST_LONGITUDE: -108 52 30.00000
EAST_LONGITUDE: -108 48 45.00000
NORTH_LATITUDE: 45 56 15.00000
SOUTH_LATITUDE: 45 52 30.00000
PRODUCTION_DATE: 1999 4 9
RASTER_ORDER: LEFT_RIGHT/TOP_BOTTOM
BAND_ORGANIZATION: SINGLE FILE
BAND_CONTENT: BLACK&WHITE
BAND_CONTENT: UNDEFINED
BAND_CONTENT: UNDEFINED
BITS_PER_PIXEL: 8
SAMPLES_AND_LINES: 5693 7686
HORIZONTAL_DATUM: NAD83
HORIZONTAL_COORDINATE_SYSTEM: UTM
COORDINATE_ZONE: 12
HORIZONTAL_UNITS: METERS
HORIZONTAL_RESOLUTION: 1.00000
SECONDARY_HORIZONTAL_DATUM: NAD27
XY_ORIGIN: 664372.00000 5089731.00000
SECONDARY_XY_ORIGIN: 664431.60500 5089520.15100
NATION: US
NATION: "SCIENCE
STATE: MT
NW_QUAD_CORNER_XY: 664727.64800 5089298.92200
NE_QUAD_CORNER_XY: 669572.50600 5089430.00300
SE_QUAD_CORNERY_XY: 669763.00300 5082486.09300
SW_QUAD_CORNER_XY: 664912.69800 5082355.00300
SECONDARY_NW_QUAD_XY: 664732.61100 5089081.05900
SECONDARY_NE_QUAD_XY: 669577.61500 5089212.14400
SECONDARY_SE_QUAD_XY: 669768.11100 5082268.27700
SECONDARY_SW_QUAD_XY: 664917.66000 5082137.18300
RMSE_XY: 2.70000
IMAGE_SOURCE: BLACK AND WHITE FILM
SOURCE_IMAGE_ID: NAPP 9157 010
SOURCE_IMAGE_DATE: 1997 09 05
SOURCE_IMAGE_ID: NAPP 9157 012
SOURCE_IMAGE_DATE: 1997 09 05
SOURCE_DEM_DATE: 1997 01 01
AGENCY: WESTERN MAPPING CENTER (WMC)
PRODUCER: UNDEFINED
PRODUCTION_SYSTEM: GIS/MAGIC
COMPRESSION: UNDEFINED
STANDARD_VERSION: 1996 12
METADATA_DATE: 1999 04 28
DATA_FILE_SIZE: 43762091
BYTE_COUNT: 5693
