FILENAME: O4510801.NWS.1007223.tif
QUADRANGLE_NAME: ROCK SPRING
QUADRANT: NW
WEST_LONGITUDE: -109 0 0.00000
EAST_LONGITUDE: -108 56 15.00000
NORTH_LATITUDE: 46 0 0.00000
SOUTH_LATITUDE: 45 56 15.00000
PRODUCTION_DATE: 1999 4 16
RASTER_ORDER: LEFT_RIGHT/TOP_BOTTOM
BAND_ORGANIZATION: SINGLE FILE
BAND_CONTENT: BLACK&WHITE
BAND_CONTENT: UNDEFINED
BAND_CONTENT: UNDEFINED
BITS_PER_PIXEL: 8
SAMPLES_AND_LINES: 5677 7678
HORIZONTAL_DATUM: NAD83
HORIZONTAL_COORDINATE_SYSTEM: UTM
COORDINATE_ZONE: 12
HORIZONTAL_UNITS: METERS
HORIZONTAL_RESOLUTION: 1.00000
SECONDARY_HORIZONTAL_DATUM: NAD27
XY_ORIGIN: 654507.00000 5096416.00000
SECONDARY_XY_ORIGIN: 654566.84400 5096205.13800
NATION: US
NATION: "SCIENCE
STATE: MT
NW_QUAD_CORNER_XY: 654863.57300 5095992.17100
NE_QUAD_CORNER_XY: 659702.99100 5096115.63800
SE_QUAD_CORNERY_XY: 659882.78400 5089171.64400
SW_QUAD_CORNER_XY: 655037.91400 5089048.16800
SECONDARY_NW_QUAD_XY: 654868.24600 5095774.25800
SECONDARY_NE_QUAD_XY: 659707.80900 5095897.72900
SECONDARY_SE_QUAD_XY: 659887.60100 5088953.77700
SECONDARY_SW_QUAD_XY: 655042.58600 5088830.29700
RMSE_XY: 2.10000
IMAGE_SOURCE: BLACK AND WHITE FILM
SOURCE_IMAGE_ID: NAPP 9147 264
SOURCE_IMAGE_DATE: 1996 08 24
SOURCE_IMAGE_ID: NAPP 9147 265
SOURCE_IMAGE_DATE: 1996 08 24
SOURCE_IMAGE_ID: NAPP 9147 263
SOURCE_IMAGE_DATE: 1996 08 24
SOURCE_DEM_DATE: 1997 01 01
AGENCY: WESTERN MAPPING CENTER (WMC)
PRODUCER: UNDEFINED
PRODUCTION_SYSTEM: GIS/MAGIC
COMPRESSION: UNDEFINED
STANDARD_VERSION: 1996 12
METADATA_DATE: 1999 04 28
DATA_FILE_SIZE: 43593683
BYTE_COUNT: 5677
