FILENAME: O4510964.SES.1121501.tif
QUADRANGLE_NAME: HOLLENBECK DRAW
QUADRANT: SE
WEST_LONGITUDE: -109 3 45.00000
EAST_LONGITUDE: -109 0 0.00000
NORTH_LATITUDE: 45 3 45.00000
SOUTH_LATITUDE: 45 0 0.00000
PRODUCTION_DATE: 2000 12 18
RASTER_ORDER: LEFT_RIGHT/TOP_BOTTOM
BAND_ORGANIZATION: SINGLE FILE
BAND_CONTENT: BLACK&WHITE
BAND_CONTENT: UNDEFINED
BAND_CONTENT: UNDEFINED
BITS_PER_PIXEL: 8
SAMPLES_AND_LINES: 5790 7710
HORIZONTAL_DATUM: NAD83
HORIZONTAL_COORDINATE_SYSTEM: UTM
COORDINATE_ZONE: 12
HORIZONTAL_UNITS: METERS
HORIZONTAL_RESOLUTION: 1.00000
SECONDARY_HORIZONTAL_DATUM: NAD27
XY_ORIGIN: 652170.00000 4992150.00000
SECONDARY_XY_ORIGIN: 652229.52300 4991940.00800
NATION: US
STATE: MT
STATE: WY
NW_QUAD_CORNER_XY: 652538.51000 4991719.43500
NE_QUAD_CORNER_XY: 657459.10500 4991839.16800
SE_QUAD_CORNERY_XY: 657630.64100 4984896.17100
SW_QUAD_CORNER_XY: 652704.68100 4984776.43800
SECONDARY_NW_QUAD_XY: 652543.01900 4991502.24300
SECONDARY_NE_QUAD_XY: 657463.76000 4991621.98000
SECONDARY_SE_QUAD_XY: 657635.29400 4984679.03800
SECONDARY_SW_QUAD_XY: 652709.18800 4984559.30100
RMSE_XY: 1.79000
IMAGE_SOURCE: BLACK AND WHITE FILM
SOURCE_IMAGE_ID: NAPP 9139 151
SOURCE_IMAGE_DATE: 1996 08 26
SOURCE_IMAGE_ID: NAPP 9139 149
SOURCE_IMAGE_DATE: 1996 08 26
SOURCE_DEM_DATE: 1969 00 00
AGENCY: WESTERN MAPPING CENTER (WMC)
PRODUCER: ANALYTICAL SURVEYS INC.
PRODUCTION_SYSTEM: ORBIT OR_RECTIFY V.5.2
COMPRESSION: UNDEFINED
STANDARD_VERSION: 1996 12
METADATA_DATE: 2000 12 20
DATA_FILE_SIZE: 44646690
BYTE_COUNT: 5790
