FILENAME: O4510964.SWS.1121502.tif
QUADRANGLE_NAME: HOLLENBECK DRAW
QUADRANT: SW
WEST_LONGITUDE: -109 7 30.00000
EAST_LONGITUDE: -109 3 45.00000
NORTH_LATITUDE: 45 3 45.00000
SOUTH_LATITUDE: 45 0 0.00000
PRODUCTION_DATE: 2000 12 18
RASTER_ORDER: LEFT_RIGHT/TOP_BOTTOM
BAND_ORGANIZATION: SINGLE FILE
BAND_CONTENT: BLACK&WHITE
BAND_CONTENT: UNDEFINED
BAND_CONTENT: UNDEFINED
BITS_PER_PIXEL: 8
SAMPLES_AND_LINES: 5760 7680
HORIZONTAL_DATUM: NAD83
HORIZONTAL_COORDINATE_SYSTEM: UTM
COORDINATE_ZONE: 12
HORIZONTAL_UNITS: METERS
HORIZONTAL_RESOLUTION: 1.00000
SECONDARY_HORIZONTAL_DATUM: NAD27
XY_ORIGIN: 647250.00000 4992030.00000
SECONDARY_XY_ORIGIN: 647309.57100 4991820.02900
NATION: US
STATE: MT
STATE: WY
NW_QUAD_CORNER_XY: 647617.91400 4991603.50500
NE_QUAD_CORNER_XY: 652538.51000 4991719.43500
SE_QUAD_CORNERY_XY: 652704.68100 4984776.43800
SW_QUAD_CORNER_XY: 647778.72100 4984660.50800
SECONDARY_NW_QUAD_XY: 647622.27800 4991386.31000
SECONDARY_NE_QUAD_XY: 652543.01900 4991502.24300
SECONDARY_SE_QUAD_XY: 652709.18800 4984559.30100
SECONDARY_SW_QUAD_XY: 647783.08300 4984443.36800
RMSE_XY: 1.51000
IMAGE_SOURCE: BLACK AND WHITE FILM
SOURCE_IMAGE_ID: NAPP 9139 154
SOURCE_IMAGE_DATE: 1996 08 26
SOURCE_IMAGE_ID: NAPP 9139 149
SOURCE_IMAGE_DATE: 1996 08 26
SOURCE_DEM_DATE: 1969 00 00
AGENCY: WESTERN MAPPING CENTER (WMC)
PRODUCER: ANALYTICAL SURVEYS INC.
PRODUCTION_SYSTEM: ORBIT OR_RECTIFY V.5.2
COMPRESSION: UNDEFINED
STANDARD_VERSION: 1996 12
METADATA_DATE: 2000 12 20
DATA_FILE_SIZE: 44242560
BYTE_COUNT: 5760
