FILENAME: O4510963.NES.1121443.tif
QUADRANGLE_NAME: TOLMAN FLAT
QUADRANT: NE
WEST_LONGITUDE: -109 11 15.00000
EAST_LONGITUDE: -109 7 30.00000
NORTH_LATITUDE: 45 7 30.00000
SOUTH_LATITUDE: 45 3 45.00000
PRODUCTION_DATE: 2000 12 18
RASTER_ORDER: LEFT_RIGHT/TOP_BOTTOM
BAND_ORGANIZATION: SINGLE FILE
BAND_CONTENT: BLACK&WHITE
BAND_CONTENT: UNDEFINED
BAND_CONTENT: UNDEFINED
BITS_PER_PIXEL: 8
SAMPLES_AND_LINES: 5760 7710
HORIZONTAL_DATUM: NAD83
HORIZONTAL_COORDINATE_SYSTEM: UTM
COORDINATE_ZONE: 12
HORIZONTAL_UNITS: METERS
HORIZONTAL_RESOLUTION: 1.00000
SECONDARY_HORIZONTAL_DATUM: NAD27
XY_ORIGIN: 642180.00000 4998870.00000
SECONDARY_XY_ORIGIN: 642239.65200 4998660.03000
NATION: US
STATE: MT
NW_QUAD_CORNER_XY: 642541.70500 4998434.44500
NE_QUAD_CORNER_XY: 647456.93100 4998546.57100
SE_QUAD_CORNERY_XY: 647617.91400 4991603.50500
SW_QUAD_CORNER_XY: 642697.31900 4991491.37900
SECONDARY_NW_QUAD_XY: 642545.92400 4998217.19200
SECONDARY_NE_QUAD_XY: 647461.29600 4998329.32100
SECONDARY_SE_QUAD_XY: 647622.27800 4991386.31000
SECONDARY_SW_QUAD_XY: 642701.53600 4991274.18100
RMSE_XY: 2.47000
IMAGE_SOURCE: BLACK AND WHITE FILM
SOURCE_IMAGE_ID: NAPP 9130 94
SOURCE_IMAGE_DATE: 1996 07 27
SOURCE_IMAGE_ID: NAPP 9162 18
SOURCE_IMAGE_DATE: 1998 07 15
SOURCE_IMAGE_ID: NAPP 9130 92
SOURCE_IMAGE_DATE: 1996 07 27
SOURCE_DEM_DATE: 2000 01 01
AGENCY: WESTERN MAPPING CENTER (WMC)
PRODUCER: ANALYTICAL SURVEYS INC.
PRODUCTION_SYSTEM: ORBIT OR_RECTIFY V.5.2
COMPRESSION: UNDEFINED
STANDARD_VERSION: 1996 12
METADATA_DATE: 2001 01 04
DATA_FILE_SIZE: 44415360
BYTE_COUNT: 5760
