FILENAME: O4510963.NWS.1121444.tif
QUADRANGLE_NAME: TOLMAN FLAT
QUADRANT: NW
WEST_LONGITUDE: -109 15 0.00000
EAST_LONGITUDE: -109 11 15.00000
NORTH_LATITUDE: 45 7 30.00000
SOUTH_LATITUDE: 45 3 45.00000
PRODUCTION_DATE: 2000 12 18
RASTER_ORDER: LEFT_RIGHT/TOP_BOTTOM
BAND_ORGANIZATION: SINGLE FILE
BAND_CONTENT: BLACK&WHITE
BAND_CONTENT: UNDEFINED
BAND_CONTENT: UNDEFINED
BITS_PER_PIXEL: 8
SAMPLES_AND_LINES: 5760 7680
HORIZONTAL_DATUM: NAD83
HORIZONTAL_COORDINATE_SYSTEM: UTM
COORDINATE_ZONE: 12
HORIZONTAL_UNITS: METERS
HORIZONTAL_RESOLUTION: 1.00000
SECONDARY_HORIZONTAL_DATUM: NAD27
XY_ORIGIN: 637260.00000 4998750.00000
SECONDARY_XY_ORIGIN: 637319.70200 4998540.04700
NATION: US
STATE: MT
NW_QUAD_CORNER_XY: 637626.47900 4998326.12300
NE_QUAD_CORNER_XY: 642541.70500 4998434.44500
SE_QUAD_CORNERY_XY: 642697.31900 4991491.37900
SW_QUAD_CORNER_XY: 637776.72300 4991383.05700
SECONDARY_NW_QUAD_XY: 637630.55200 4998108.86700
SECONDARY_NE_QUAD_XY: 642545.92400 4998217.19200
SECONDARY_SE_QUAD_XY: 642701.53600 4991274.18100
SECONDARY_SW_QUAD_XY: 637780.79500 4991165.85500
RMSE_XY: 3.27000
IMAGE_SOURCE: BLACK AND WHITE FILM
SOURCE_IMAGE_ID: NAPP 9162 18
SOURCE_IMAGE_DATE: 1998 07 15
SOURCE_IMAGE_ID: NAPP 9130 99
SOURCE_IMAGE_DATE: 1996 07 27
SOURCE_IMAGE_ID: NAPP 9130 94
SOURCE_IMAGE_DATE: 1996 07 27
SOURCE_IMAGE_ID: NAPP 9162 16
SOURCE_IMAGE_DATE: 1998 07 15
SOURCE_DEM_DATE: 2000 01 01
AGENCY: WESTERN MAPPING CENTER (WMC)
PRODUCER: ANALYTICAL SURVEYS INC.
PRODUCTION_SYSTEM: ORBIT OR_RECTIFY V.5.2
COMPRESSION: UNDEFINED
STANDARD_VERSION: 1996 12
METADATA_DATE: 2000 12 27
DATA_FILE_SIZE: 44242560
BYTE_COUNT: 5760
