FILENAME: O4510963.SES.1121445.tif
QUADRANGLE_NAME: TOLMAN FLAT
QUADRANT: SE
WEST_LONGITUDE: -109 11 15.00000
EAST_LONGITUDE: -109 7 30.00000
NORTH_LATITUDE: 45 3 45.00000
SOUTH_LATITUDE: 45 0 0.00000
PRODUCTION_DATE: 2000 12 18
RASTER_ORDER: LEFT_RIGHT/TOP_BOTTOM
BAND_ORGANIZATION: SINGLE FILE
BAND_CONTENT: BLACK&WHITE
BAND_CONTENT: UNDEFINED
BAND_CONTENT: UNDEFINED
BITS_PER_PIXEL: 8
SAMPLES_AND_LINES: 5760 7680
HORIZONTAL_DATUM: NAD83
HORIZONTAL_COORDINATE_SYSTEM: UTM
COORDINATE_ZONE: 12
HORIZONTAL_UNITS: METERS
HORIZONTAL_RESOLUTION: 1.00000
SECONDARY_HORIZONTAL_DATUM: NAD27
XY_ORIGIN: 642330.00000 4991910.00000
SECONDARY_XY_ORIGIN: 642389.61900 4991700.04900
NATION: US
STATE: MT
STATE: WY
NW_QUAD_CORNER_XY: 642697.31900 4991491.37900
NE_QUAD_CORNER_XY: 647617.91400 4991603.50500
SE_QUAD_CORNERY_XY: 647778.72100 4984660.50800
SW_QUAD_CORNER_XY: 642852.76100 4984548.38200
SECONDARY_NW_QUAD_XY: 642701.53600 4991274.18100
SECONDARY_NE_QUAD_XY: 647622.27800 4991386.31000
SECONDARY_SE_QUAD_XY: 647783.08300 4984443.36800
SECONDARY_SW_QUAD_XY: 642856.97800 4984331.23800
RMSE_XY: 2.48000
IMAGE_SOURCE: BLACK AND WHITE FILM
SOURCE_IMAGE_ID: NAPP 9130 96
SOURCE_IMAGE_DATE: 1996 07 27
SOURCE_DEM_DATE: 2000 01 01
AGENCY: WESTERN MAPPING CENTER (WMC)
PRODUCER: ANALYTICAL SURVEYS INC.
PRODUCTION_SYSTEM: ORBIT OR_RECTIFY V.5.2
COMPRESSION: UNDEFINED
STANDARD_VERSION: 1996 12
METADATA_DATE: 2001 01 04
DATA_FILE_SIZE: 44242560
BYTE_COUNT: 5760
