FILENAME: O4510961.NES.1121435.tif
QUADRANGLE_NAME: BLACK PYRAMID MOUNTAIN
QUADRANT: NE
WEST_LONGITUDE: -109 26 15.00000
EAST_LONGITUDE: -109 22 30.00000
NORTH_LATITUDE: 45 7 30.00000
SOUTH_LATITUDE: 45 3 45.00000
PRODUCTION_DATE: 2000 12 18
RASTER_ORDER: LEFT_RIGHT/TOP_BOTTOM
BAND_ORGANIZATION: SINGLE FILE
BAND_CONTENT: BLACK&WHITE
BAND_CONTENT: UNDEFINED
BAND_CONTENT: UNDEFINED
BITS_PER_PIXEL: 8
SAMPLES_AND_LINES: 5760 7680
HORIZONTAL_DATUM: NAD83
HORIZONTAL_COORDINATE_SYSTEM: UTM
COORDINATE_ZONE: 12
HORIZONTAL_UNITS: METERS
HORIZONTAL_RESOLUTION: 1.00000
SECONDARY_HORIZONTAL_DATUM: NAD27
XY_ORIGIN: 622500.00000 4998450.00000
SECONDARY_XY_ORIGIN: 622559.94000 4998239.99200
NATION: US
STATE: MT
NW_QUAD_CORNER_XY: 622880.79600 4998023.97400
NE_QUAD_CORNER_XY: 627796.02400 4998120.88800
SE_QUAD_CORNERY_XY: 627935.53000 4991177.82100
SW_QUAD_CORNER_XY: 623014.93400 4991080.90700
SECONDARY_NW_QUAD_XY: 622884.43300 4997806.70900
SECONDARY_NE_QUAD_XY: 627799.80700 4997903.62600
SECONDARY_SE_QUAD_XY: 627939.31200 4990960.61300
SECONDARY_SW_QUAD_XY: 623018.57000 4990863.69600
RMSE_XY: 1.39000
IMAGE_SOURCE: BLACK AND WHITE FILM
SOURCE_IMAGE_ID: NAPP 11012 29
SOURCE_IMAGE_DATE: 1998 08 25
SOURCE_IMAGE_ID: NAPP 11012 31
SOURCE_IMAGE_DATE: 1998 08 25
SOURCE_IMAGE_ID: NAPP 11012 27
SOURCE_IMAGE_DATE: 1998 08 25
SOURCE_IMAGE_ID: NAPP 11012 40
SOURCE_IMAGE_DATE: 1998 08 25
SOURCE_IMAGE_ID: NAPP 11012 22
SOURCE_IMAGE_DATE: 1998 08 25
SOURCE_DEM_DATE: 1981 00 00
AGENCY: WESTERN MAPPING CENTER (WMC)
PRODUCER: ANALYTICAL SURVEYS INC.
PRODUCTION_SYSTEM: ORBIT OR_RECTIFY V.5.2
COMPRESSION: UNDEFINED
STANDARD_VERSION: 1996 12
METADATA_DATE: 2000 12 27
DATA_FILE_SIZE: 44242560
BYTE_COUNT: 5760
