FILENAME: O4510958.NWS.831407.tif
QUADRANGLE_NAME: FOSSIL LAKE
QUADRANT: NW
WEST_LONGITUDE: -109 52 30.00000
EAST_LONGITUDE: -109 48 45.00000
NORTH_LATITUDE: 45 7 30.00000
SOUTH_LATITUDE: 45 3 45.00000
PRODUCTION_DATE: 1998 1 14
RASTER_ORDER: LEFT_RIGHT/TOP_BOTTOM
BAND_ORGANIZATION: SINGLE FILE
BAND_CONTENT: BLACK&WHITE
BAND_CONTENT: UNDEFINED
BAND_CONTENT: UNDEFINED
BITS_PER_PIXEL: 8
SAMPLES_AND_LINES: 5678 7624
HORIZONTAL_DATUM: NAD83
HORIZONTAL_COORDINATE_SYSTEM: UTM
COORDINATE_ZONE: 12
HORIZONTAL_UNITS: METERS
HORIZONTAL_RESOLUTION: 1.00000
SECONDARY_HORIZONTAL_DATUM: NAD27
XY_ORIGIN: 588115.00000 4997823.00000
SECONDARY_XY_ORIGIN: 588175.32800 4997613.06000
NATION: US
NATION: "SCIENCE
STATE: MT
NW_QUAD_CORNER_XY: 588474.18800 4997452.03500
NE_QUAD_CORNER_XY: 593389.41900 4997522.33600
SE_QUAD_CORNERY_XY: 593491.35300 4990579.26600
SW_QUAD_CORNER_XY: 588570.75600 4990508.96500
SECONDARY_NW_QUAD_XY: 588476.80700 4997234.75200
SECONDARY_NE_QUAD_XY: 593392.18300 4997305.05600
SECONDARY_SE_QUAD_XY: 593494.11600 4990362.04000
SECONDARY_SW_QUAD_XY: 588573.37400 4990291.73700
RMSE_XY: 5.80000
IMAGE_SOURCE: BLACK AND WHITE FILM
SOURCE_IMAGE_ID: NAPP 7825 055
SOURCE_IMAGE_DATE: 1994 08 25
SOURCE_IMAGE_ID: NAPP 7825 052
SOURCE_IMAGE_DATE: 1994 08 25
SOURCE_IMAGE_ID: NAPP 7825 056
SOURCE_IMAGE_DATE: 1994 08 25
SOURCE_IMAGE_ID: NAPP 7825 054
SOURCE_IMAGE_DATE: 1994 08 25
SOURCE_DEM_DATE: 1997 01 01
AGENCY: WESTERN MAPPING CENTER (WMC)
PRODUCER: UNDEFINED
PRODUCTION_SYSTEM: GIS/MAGIC
COMPRESSION: UNDEFINED
STANDARD_VERSION: 1996 12
METADATA_DATE: 1998 01 15
DATA_FILE_SIZE: 43294750
BYTE_COUNT: 5678
