FILENAME: O4510955.NWS.1121492.tif
QUADRANGLE_NAME: RED LODGE EAST
QUADRANT: NW
WEST_LONGITUDE: -109 15 0.00000
EAST_LONGITUDE: -109 11 15.00000
NORTH_LATITUDE: 45 15 0.00000
SOUTH_LATITUDE: 45 11 15.00000
PRODUCTION_DATE: 2000 12 16
RASTER_ORDER: LEFT_RIGHT/TOP_BOTTOM
BAND_ORGANIZATION: SINGLE FILE
BAND_CONTENT: BLACK&WHITE
BAND_CONTENT: UNDEFINED
BAND_CONTENT: UNDEFINED
BITS_PER_PIXEL: 8
SAMPLES_AND_LINES: 5730 7680
HORIZONTAL_DATUM: NAD83
HORIZONTAL_COORDINATE_SYSTEM: UTM
COORDINATE_ZONE: 12
HORIZONTAL_UNITS: METERS
HORIZONTAL_RESOLUTION: 1.00000
SECONDARY_HORIZONTAL_DATUM: NAD27
XY_ORIGIN: 636960.00000 5012640.00000
SECONDARY_XY_ORIGIN: 637019.77100 5012430.00700
NATION: US
STATE: MT
NW_QUAD_CORNER_XY: 637325.49700 5012212.46300
NE_QUAD_CORNER_XY: 642229.96700 5012320.78300
SE_QUAD_CORNERY_XY: 642385.92100 5005377.58000
SW_QUAD_CORNER_XY: 637476.07000 5005269.25900
SECONDARY_NW_QUAD_XY: 637329.57300 5011995.10100
SECONDARY_NE_QUAD_XY: 642234.18800 5012103.42400
SECONDARY_SE_QUAD_XY: 642390.14200 5005160.27300
SECONDARY_SW_QUAD_XY: 637480.14500 5005051.94900
RMSE_XY: 1.28000
IMAGE_SOURCE: BLACK AND WHITE FILM
SOURCE_IMAGE_ID: NAPP 9130 101
SOURCE_IMAGE_DATE: 1996 07 27
SOURCE_IMAGE_ID: NAPP 11012 15
SOURCE_IMAGE_DATE: 1998 08 25
SOURCE_DEM_DATE: 1968 00 00
AGENCY: WESTERN MAPPING CENTER (WMC)
PRODUCER: ANALYTICAL SURVEYS INC.
PRODUCTION_SYSTEM: ORBIT OR_RECTIFY V.5.2
COMPRESSION: UNDEFINED
STANDARD_VERSION: 1996 12
METADATA_DATE: 2000 12 18
DATA_FILE_SIZE: 44012130
BYTE_COUNT: 5730
