FILENAME: O4510955.SES.1121493.tif
QUADRANGLE_NAME: RED LODGE EAST
QUADRANT: SE
WEST_LONGITUDE: -109 11 15.00000
EAST_LONGITUDE: -109 7 30.00000
NORTH_LATITUDE: 45 11 15.00000
SOUTH_LATITUDE: 45 7 30.00000
PRODUCTION_DATE: 2000 12 16
RASTER_ORDER: LEFT_RIGHT/TOP_BOTTOM
BAND_ORGANIZATION: SINGLE FILE
BAND_CONTENT: BLACK&WHITE
BAND_CONTENT: UNDEFINED
BAND_CONTENT: UNDEFINED
BITS_PER_PIXEL: 8
SAMPLES_AND_LINES: 5730 7680
HORIZONTAL_DATUM: NAD83
HORIZONTAL_COORDINATE_SYSTEM: UTM
COORDINATE_ZONE: 12
HORIZONTAL_UNITS: METERS
HORIZONTAL_RESOLUTION: 1.00000
SECONDARY_HORIZONTAL_DATUM: NAD27
XY_ORIGIN: 642030.00000 5005800.00000
SECONDARY_XY_ORIGIN: 642089.68400 5005590.01100
NATION: US
STATE: MT
NW_QUAD_CORNER_XY: 642385.92100 5005377.58000
NE_QUAD_CORNER_XY: 647295.77200 5005489.70400
SE_QUAD_CORNERY_XY: 647456.93100 4998546.57100
SW_QUAD_CORNER_XY: 642541.70500 4998434.44500
SECONDARY_NW_QUAD_XY: 642390.14200 5005160.27300
SECONDARY_NE_QUAD_XY: 647300.13800 5005272.40100
SECONDARY_SE_QUAD_XY: 647461.29600 4998329.32100
SECONDARY_SW_QUAD_XY: 642545.92400 4998217.19200
RMSE_XY: 2.47000
IMAGE_SOURCE: BLACK AND WHITE FILM
SOURCE_IMAGE_ID: NAPP 9130 92
SOURCE_IMAGE_DATE: 1996 07 27
SOURCE_IMAGE_ID: NAPP 9130 99
SOURCE_IMAGE_DATE: 1996 07 27
SOURCE_DEM_DATE: 1968 00 00
AGENCY: WESTERN MAPPING CENTER (WMC)
PRODUCER: ANALYTICAL SURVEYS INC.
PRODUCTION_SYSTEM: ORBIT OR_RECTIFY V.5.2
COMPRESSION: UNDEFINED
STANDARD_VERSION: 1996 12
METADATA_DATE: 2000 12 18
DATA_FILE_SIZE: 44012130
BYTE_COUNT: 5730
