FILENAME: O4510955.SWS.1121494.tif
QUADRANGLE_NAME: RED LODGE EAST
QUADRANT: SW
WEST_LONGITUDE: -109 15 0.00000
EAST_LONGITUDE: -109 11 15.00000
NORTH_LATITUDE: 45 11 15.00000
SOUTH_LATITUDE: 45 7 30.00000
PRODUCTION_DATE: 2000 12 16
RASTER_ORDER: LEFT_RIGHT/TOP_BOTTOM
BAND_ORGANIZATION: SINGLE FILE
BAND_CONTENT: BLACK&WHITE
BAND_CONTENT: UNDEFINED
BAND_CONTENT: UNDEFINED
BITS_PER_PIXEL: 8
SAMPLES_AND_LINES: 5760 7680
HORIZONTAL_DATUM: NAD83
HORIZONTAL_COORDINATE_SYSTEM: UTM
COORDINATE_ZONE: 12
HORIZONTAL_UNITS: METERS
HORIZONTAL_RESOLUTION: 1.00000
SECONDARY_HORIZONTAL_DATUM: NAD27
XY_ORIGIN: 637110.00000 5005680.00000
SECONDARY_XY_ORIGIN: 637169.73600 5005470.02700
NATION: US
STATE: MT
NW_QUAD_CORNER_XY: 637476.07000 5005269.25900
NE_QUAD_CORNER_XY: 642385.92100 5005377.58000
SE_QUAD_CORNERY_XY: 642541.70500 4998434.44500
SW_QUAD_CORNER_XY: 637626.47900 4998326.12300
SECONDARY_NW_QUAD_XY: 637480.14500 5005051.94900
SECONDARY_NE_QUAD_XY: 642390.14200 5005160.27300
SECONDARY_SE_QUAD_XY: 642545.92400 4998217.19200
SECONDARY_SW_QUAD_XY: 637630.55200 4998108.86700
RMSE_XY: 2.21000
IMAGE_SOURCE: BLACK AND WHITE FILM
SOURCE_IMAGE_ID: NAPP 9130 99
SOURCE_IMAGE_DATE: 1996 07 27
SOURCE_DEM_DATE: 1968 00 00
AGENCY: WESTERN MAPPING CENTER (WMC)
PRODUCER: ANALYTICAL SURVEYS INC.
PRODUCTION_SYSTEM: ORBIT OR_RECTIFY V.5.2
COMPRESSION: UNDEFINED
STANDARD_VERSION: 1996 12
METADATA_DATE: 2000 12 18
DATA_FILE_SIZE: 44242560
BYTE_COUNT: 5760
