FILENAME: O4510954.NES.1121487.tif
QUADRANGLE_NAME: RED LODGE WEST
QUADRANT: NE
WEST_LONGITUDE: -109 18 45.00000
EAST_LONGITUDE: -109 15 0.00000
NORTH_LATITUDE: 45 15 0.00000
SOUTH_LATITUDE: 45 11 15.00000
PRODUCTION_DATE: 2000 12 16
RASTER_ORDER: LEFT_RIGHT/TOP_BOTTOM
BAND_ORGANIZATION: SINGLE FILE
BAND_CONTENT: BLACK&WHITE
BAND_CONTENT: UNDEFINED
BAND_CONTENT: UNDEFINED
BITS_PER_PIXEL: 8
SAMPLES_AND_LINES: 5760 7680
HORIZONTAL_DATUM: NAD83
HORIZONTAL_COORDINATE_SYSTEM: UTM
COORDINATE_ZONE: 12
HORIZONTAL_UNITS: METERS
HORIZONTAL_RESOLUTION: 1.00000
SECONDARY_HORIZONTAL_DATUM: NAD27
XY_ORIGIN: 632040.00000 5012520.00000
SECONDARY_XY_ORIGIN: 632099.81800 5012309.98500
NATION: US
STATE: MT
NW_QUAD_CORNER_XY: 632421.02500 5012107.94700
NE_QUAD_CORNER_XY: 637325.49700 5012212.46300
SE_QUAD_CORNERY_XY: 637476.07000 5005269.25900
SW_QUAD_CORNER_XY: 632566.21800 5005164.74100
SECONDARY_NW_QUAD_XY: 632424.95600 5011890.58200
SECONDARY_NE_QUAD_XY: 637329.57300 5011995.10100
SECONDARY_SE_QUAD_XY: 637480.14500 5005051.94900
SECONDARY_SW_QUAD_XY: 632570.14700 5004947.42800
RMSE_XY: 1.73000
IMAGE_SOURCE: BLACK AND WHITE FILM
SOURCE_IMAGE_ID: NAPP 11012 15
SOURCE_IMAGE_DATE: 1998 08 25
SOURCE_DEM_DATE: 1975 00 00
AGENCY: WESTERN MAPPING CENTER (WMC)
PRODUCER: ANALYTICAL SURVEYS INC.
PRODUCTION_SYSTEM: ORBIT OR_RECTIFY V.5.2
COMPRESSION: UNDEFINED
STANDARD_VERSION: 1996 12
METADATA_DATE: 2000 12 18
DATA_FILE_SIZE: 44242560
BYTE_COUNT: 5760
