FILENAME: O4510954.SES.1121489.tif
QUADRANGLE_NAME: RED LODGE WEST
QUADRANT: SE
WEST_LONGITUDE: -109 18 45.00000
EAST_LONGITUDE: -109 15 0.00000
NORTH_LATITUDE: 45 11 15.00000
SOUTH_LATITUDE: 45 7 30.00000
PRODUCTION_DATE: 2000 12 16
RASTER_ORDER: LEFT_RIGHT/TOP_BOTTOM
BAND_ORGANIZATION: SINGLE FILE
BAND_CONTENT: BLACK&WHITE
BAND_CONTENT: UNDEFINED
BAND_CONTENT: UNDEFINED
BITS_PER_PIXEL: 8
SAMPLES_AND_LINES: 5760 7680
HORIZONTAL_DATUM: NAD83
HORIZONTAL_COORDINATE_SYSTEM: UTM
COORDINATE_ZONE: 12
HORIZONTAL_UNITS: METERS
HORIZONTAL_RESOLUTION: 1.00000
SECONDARY_HORIZONTAL_DATUM: NAD27
XY_ORIGIN: 632190.00000 5005590.00000
SECONDARY_XY_ORIGIN: 632249.80200 5005380.00600
NATION: US
STATE: MT
NW_QUAD_CORNER_XY: 632566.21800 5005164.74100
NE_QUAD_CORNER_XY: 637476.07000 5005269.25900
SE_QUAD_CORNERY_XY: 637626.47900 4998326.12300
SW_QUAD_CORNER_XY: 632711.25200 4998221.60400
SECONDARY_NW_QUAD_XY: 632570.14700 5004947.42800
SECONDARY_NE_QUAD_XY: 637480.14500 5005051.94900
SECONDARY_SE_QUAD_XY: 637630.55200 4998108.86700
SECONDARY_SW_QUAD_XY: 632715.18000 4998004.34500
RMSE_XY: 2.88000
IMAGE_SOURCE: BLACK AND WHITE FILM
SOURCE_IMAGE_ID: NAPP 11012 13
SOURCE_IMAGE_DATE: 1998 08 25
SOURCE_IMAGE_ID: NAPP 11012 15
SOURCE_IMAGE_DATE: 1998 08 25
SOURCE_DEM_DATE: 1975 00 00
AGENCY: WESTERN MAPPING CENTER (WMC)
PRODUCER: ANALYTICAL SURVEYS INC.
PRODUCTION_SYSTEM: ORBIT OR_RECTIFY V.5.2
COMPRESSION: UNDEFINED
STANDARD_VERSION: 1996 12
METADATA_DATE: 2000 12 19
DATA_FILE_SIZE: 44242560
BYTE_COUNT: 5760
