FILENAME: e:\updates\vol010_q1_2001\tiles\O4510953.NWS.tif
QUADRANGLE_NAME: BARE MOUNTAIN
QUADRANT: NW
WEST_LONGITUDE: -109 30 0.00000
EAST_LONGITUDE: -109 26 15.00000
NORTH_LATITUDE: 45 15 0.00000
SOUTH_LATITUDE: 45 11 15.00000
PRODUCTION_DATE: 2000 12 16
RASTER_ORDER: LEFT_RIGHT/TOP_BOTTOM
BAND_ORGANIZATION: SINGLE FILE
BAND_CONTENT: BLACK&WHITE
BAND_CONTENT: UNDEFINED
BAND_CONTENT: UNDEFINED
BITS_PER_PIXEL: 8
SAMPLES_AND_LINES: 5730 7680
HORIZONTAL_DATUM: NAD83
HORIZONTAL_COORDINATE_SYSTEM: UTM
COORDINATE_ZONE: 12
HORIZONTAL_UNITS: METERS
HORIZONTAL_RESOLUTION: 1.00000
SECONDARY_HORIZONTAL_DATUM: NAD27
XY_ORIGIN: 617340.00000 5012220.00000
SECONDARY_XY_ORIGIN: 617399.94300 5012009.92600
NATION: US
STATE: MT
NW_QUAD_CORNER_XY: 617707.60400 5011817.21300
NE_QUAD_CORNER_XY: 622612.07900 5011910.32200
SE_QUAD_CORNERY_XY: 622746.51100 5004967.11300
SW_QUAD_CORNER_XY: 617836.65600 5004874.00200
SECONDARY_NW_QUAD_XY: 617711.09800 5011599.83900
SECONDARY_NE_QUAD_XY: 622615.71800 5011692.95100
SECONDARY_SE_QUAD_XY: 622750.14900 5004749.79400
SECONDARY_SW_QUAD_XY: 617840.14900 5004656.68100
RMSE_XY: 2.09000
IMAGE_SOURCE: BLACK AND WHITE FILM
SOURCE_IMAGE_ID: NAPP 11012 36
SOURCE_IMAGE_DATE: 1998 08 25
SOURCE_IMAGE_ID: NAPP 9153 187
SOURCE_IMAGE_DATE: 1997 08 28
SOURCE_DEM_DATE: 1975 00 00
AGENCY: WESTERN MAPPING CENTER (WMC)
PRODUCER: ANALYTICAL SURVEYS INC.
PRODUCTION_SYSTEM: ORBIT OR_RECTIFY V.5.2
COMPRESSION: UNDEFINED
STANDARD_VERSION: 1996 12
METADATA_DATE: 2000 12 18
DATA_FILE_SIZE: 44012130
BYTE_COUNT: 5730
