FILENAME: O4510953.SES.1121485.tif
QUADRANGLE_NAME: BARE MOUNTAIN
QUADRANT: SE
WEST_LONGITUDE: -109 26 15.00000
EAST_LONGITUDE: -109 22 30.00000
NORTH_LATITUDE: 45 11 15.00000
SOUTH_LATITUDE: 45 7 30.00000
PRODUCTION_DATE: 2000 12 16
RASTER_ORDER: LEFT_RIGHT/TOP_BOTTOM
BAND_ORGANIZATION: SINGLE FILE
BAND_CONTENT: BLACK&WHITE
BAND_CONTENT: UNDEFINED
BAND_CONTENT: UNDEFINED
BITS_PER_PIXEL: 8
SAMPLES_AND_LINES: 5730 7680
HORIZONTAL_DATUM: NAD83
HORIZONTAL_COORDINATE_SYSTEM: UTM
COORDINATE_ZONE: 12
HORIZONTAL_UNITS: METERS
HORIZONTAL_RESOLUTION: 1.00000
SECONDARY_HORIZONTAL_DATUM: NAD27
XY_ORIGIN: 622380.00000 5005380.00000
SECONDARY_XY_ORIGIN: 622439.92100 5005169.96900
NATION: US
STATE: MT
NW_QUAD_CORNER_XY: 622746.51100 5004967.11300
NE_QUAD_CORNER_XY: 627656.36500 5005064.02500
SE_QUAD_CORNERY_XY: 627796.02400 4998120.88800
SW_QUAD_CORNER_XY: 622880.79600 4998023.97400
SECONDARY_NW_QUAD_XY: 622750.14900 5004749.79400
SECONDARY_NE_QUAD_XY: 627660.14800 5004846.71000
SECONDARY_SE_QUAD_XY: 627799.80700 4997903.62600
SECONDARY_SW_QUAD_XY: 622884.43300 4997806.70900
RMSE_XY: 1.92000
IMAGE_SOURCE: BLACK AND WHITE FILM
SOURCE_IMAGE_ID: NAPP 11012 31
SOURCE_IMAGE_DATE: 1998 08 25
SOURCE_DEM_DATE: 1975 00 00
AGENCY: WESTERN MAPPING CENTER (WMC)
PRODUCER: ANALYTICAL SURVEYS INC.
PRODUCTION_SYSTEM: ORBIT OR_RECTIFY V.5.2
COMPRESSION: UNDEFINED
STANDARD_VERSION: 1996 12
METADATA_DATE: 2000 12 17
DATA_FILE_SIZE: 44012130
BYTE_COUNT: 5730
